BEGIN:VCALENDAR
VERSION:2.0
PRODID:-//Palms Neighborhood Council - ECPv6.15.13.1//NONSGML v1.0//EN
CALSCALE:GREGORIAN
METHOD:PUBLISH
X-ORIGINAL-URL:https://palmsnc.la
X-WR-CALDESC:Events for Palms Neighborhood Council
REFRESH-INTERVAL;VALUE=DURATION:PT1H
X-Robots-Tag:noindex
X-PUBLISHED-TTL:PT1H
BEGIN:VTIMEZONE
TZID:UTC
BEGIN:STANDARD
TZOFFSETFROM:+0000
TZOFFSETTO:+0000
TZNAME:UTC
DTSTART:20150101T000000
END:STANDARD
END:VTIMEZONE
BEGIN:VEVENT
DTSTART;TZID=UTC:20161211T100000
DTEND;TZID=UTC:20161211T120000
DTSTAMP:20260419T101447
CREATED:20161204T075512Z
LAST-MODIFIED:20161204T082955Z
UID:120-1481450400-1481457600@palmsnc.la
SUMMARY:Congressmember Karen Bass Town Hall
DESCRIPTION:Mark your calendars for Dec. 11th as Congressmember Karen Bassholds a meeting to listen to the most pressing issues in our community. \nRSVP at http://www.bass.house.gov/palms
URL:https://palmsnc.la/calendar/congressmember-karen-bass-town-hall/
LOCATION:Palms Middle School\, 10860 Woodbine Street\, Los Angeles\, CA\, 90037\, United States
CATEGORIES:Community Events
END:VEVENT
END:VCALENDAR