BEGIN:VCALENDAR
VERSION:2.0
PRODID:-//Palms Neighborhood Council - ECPv6.15.13.1//NONSGML v1.0//EN
CALSCALE:GREGORIAN
METHOD:PUBLISH
X-WR-CALNAME:Palms Neighborhood Council
X-ORIGINAL-URL:https://palmsnc.la
X-WR-CALDESC:Events for Palms Neighborhood Council
REFRESH-INTERVAL;VALUE=DURATION:PT1H
X-Robots-Tag:noindex
X-PUBLISHED-TTL:PT1H
BEGIN:VTIMEZONE
TZID:America/Los_Angeles
BEGIN:DAYLIGHT
TZOFFSETFROM:-0800
TZOFFSETTO:-0700
TZNAME:PDT
DTSTART:20170312T100000
END:DAYLIGHT
BEGIN:STANDARD
TZOFFSETFROM:-0700
TZOFFSETTO:-0800
TZNAME:PST
DTSTART:20171105T090000
END:STANDARD
BEGIN:DAYLIGHT
TZOFFSETFROM:-0800
TZOFFSETTO:-0700
TZNAME:PDT
DTSTART:20180311T100000
END:DAYLIGHT
BEGIN:STANDARD
TZOFFSETFROM:-0700
TZOFFSETTO:-0800
TZNAME:PST
DTSTART:20181104T090000
END:STANDARD
BEGIN:DAYLIGHT
TZOFFSETFROM:-0800
TZOFFSETTO:-0700
TZNAME:PDT
DTSTART:20190310T100000
END:DAYLIGHT
BEGIN:STANDARD
TZOFFSETFROM:-0700
TZOFFSETTO:-0800
TZNAME:PST
DTSTART:20191103T090000
END:STANDARD
BEGIN:DAYLIGHT
TZOFFSETFROM:-0800
TZOFFSETTO:-0700
TZNAME:PDT
DTSTART:20200308T100000
END:DAYLIGHT
BEGIN:STANDARD
TZOFFSETFROM:-0700
TZOFFSETTO:-0800
TZNAME:PST
DTSTART:20201101T090000
END:STANDARD
END:VTIMEZONE
BEGIN:VEVENT
DTSTART;TZID=America/Los_Angeles:20191003T180000
DTEND;TZID=America/Los_Angeles:20191003T210000
DTSTAMP:20260424T045415
CREATED:20190910T013916Z
LAST-MODIFIED:20190910T013916Z
UID:2794-1570125600-1570136400@palmsnc.la
SUMMARY:WVHA 6th Annual Preparedness Fair
DESCRIPTION:Westside Village Homeowners Association 6th Annual Preparedness Fair
URL:https://palmsnc.la/calendar/wvha-6th-annual-preparedness-fair/
LOCATION:11000 National Blvd.\, Los Angeles\, CA 90064\, 11000 National Blvd.\, Los Angeles\, CA\, 90064\, United States
CATEGORIES:Community Events
END:VEVENT
BEGIN:VEVENT
DTSTART;TZID=America/Los_Angeles:20190928T074500
DTEND;TZID=America/Los_Angeles:20190928T163000
DTSTAMP:20260424T045415
CREATED:20190910T015142Z
LAST-MODIFIED:20190910T015142Z
UID:2800-1569656700-1569688200@palmsnc.la
SUMMARY:2019 Congress of Neighborhoods
DESCRIPTION:Registration is open for this year’s Congress of Neighborhoods\, happening Saturday September 28th at Los Angeles City Hall! The Congress is the LA Neighborhood Council system’s biggest event\, bringing together over 1\,000 local leaders each year for a day of workshops and networking with City officials and other NC members. Free admission with RSVP – and breakfast\, lunch\, and parking are all included! Register now to ensure you get your pick of classes\, at http://NCCongressLA.com
URL:https://palmsnc.la/calendar/2019-congress-of-neighborhoods/
LOCATION:Los Angeles City Hall\, 200 N Spring St.\, Los Angeles\, CA\, 90034\, United States
CATEGORIES:Community Events
END:VEVENT
BEGIN:VEVENT
DTSTART;TZID=America/Los_Angeles:20190926T183000
DTEND;TZID=America/Los_Angeles:20190926T210000
DTSTAMP:20260424T045415
CREATED:20190909T023315Z
LAST-MODIFIED:20190909T023315Z
UID:2779-1569522600-1569531600@palmsnc.la
SUMMARY:CERT Class 3 of 7: Disaster Medical Operations 1
DESCRIPTION:Join us for a class series on emergency and disaster responsiveness.  Although the website states that the class is full\, if you show up at the door you will still receive a seat.  Participation is free.  For more information visit the website here: https://www.eventbrite.com/e/lafd-cert-los-angeles-tickets-65588189039?aff=eprofsaved
URL:https://palmsnc.la/calendar/cert-class-3-of-7-disaster-medical-operations-1/
LOCATION:Culver Palms Church of Christ\, 9733 Venice Blvd.\, Los Angeles\, CA\, 90034\, United States
CATEGORIES:Community Events
END:VEVENT
BEGIN:VEVENT
DTSTART;TZID=America/Los_Angeles:20190924T173000
DTEND;TZID=America/Los_Angeles:20190924T190000
DTSTAMP:20260424T045415
CREATED:20190910T022703Z
LAST-MODIFIED:20190911T024958Z
UID:2805-1569346200-1569351600@palmsnc.la
SUMMARY:Area B Office Hours
DESCRIPTION:Come meet Rachel Pedowitz\, Area B Representative\, during her monthly Office Hours at Mee & Greet.  Feel free to bring questions\, comments\, and ideas for how to make Area B and the Palms Neighborhood even better!
URL:https://palmsnc.la/calendar/area-b-office-hours/
LOCATION:Mee & Greet\, 3500 Overland Ave. #150\, Los Angeles\, CA\, 90034\, United States
CATEGORIES:Community Events
END:VEVENT
BEGIN:VEVENT
DTSTART;TZID=America/Los_Angeles:20190922T110000
DTEND;TZID=America/Los_Angeles:20190922T150000
DTSTAMP:20260424T045415
CREATED:20190910T012939Z
LAST-MODIFIED:20190910T012939Z
UID:2791-1569150000-1569164400@palmsnc.la
SUMMARY:Westside Neighborhood Council 2nd Annual Safety and Preparedness Fair
DESCRIPTION:Sunday\, September 22nd is the Westside Neighborhood Council 2nd Annual Safety and Preparedness Fair at Overland Elementary School (11 am – 3 pm). At this FREE event\, you can: \n\nVisit over 40 informational and educational booths\,\nLEARN hands-only CPR\,\nLEARN to “stop the bleed”\,\nLEARN how to use a fire extinguisher\,\nBUY those emergency supplies you’ve been meaning to get\,\nEAT lunch or snacks which will be available for purchase from 3 amazing FOOD TRUCKS (The Grilled Cheese Truck\, Wicked Fish Tacos\, and L.A. Donut)\,\nGIVE THE GIFT of LIFE\, donate blood at the Cedar Sinai Bloodmobile\,\nLEARN pet CPR\,\nASK QUESTIONS. Our local West Los Angeles Police Dept will be there to talk with you about crime and crime prevention\, the Citizen Police Academy and the Community Safety Patrol.  Chat with Capt. Vic Davolos\, Sgt. Scott Alpert and our Senior Lead Officers Rick Ballesteros and Chris Baker\nGet a FREE custom KID’S SAFETYID KIT.\nAdults\, teens\, and pre-teens are invited to try the DISTRACTED DRIVING DEMONSTRATOR. Our young drivers or soon to be drivers can learn in a completely safe environment just how fast something can happen if they are distracted while driving.\nKIDS are invited to participate in a BIKE SAFETY WORKSHOP. Bring their bikes and helmets and they can take a spin or three around the course! (The kids had so much fun at the bike safety workshop last year\, that they didn’t want to leave!)\nWIN RAFFLE PRIZES! Gift baskets\, local store\, and restaurant gift cards\, and emergency supplies. Every attendee gets a FREE RAFFLE TICKET\, but you must be present at the fairto win.\nFREE FIRST AID BAGS AND SUPPLIES and enter to WIN a special raffle prize — but to be eligible to receive the first aid bags and supplies\, and to enter the raffle for this one special raffle prize — YOU MUST PRE-REGISTER for the fair. These items are FREE but available ONLY TO PRE-REGISTERED ATTENDEES— one free first aid bag and supplies PER FAMILY — while supplies last\, supplies are limited.\nAnd so much more to see and learn at the fair!\n\nPRE-REGISTER NOW https://wncsafetyandprepfair.eventbrite.com \nOr for more info go to: https://wnclaprepfair.com
URL:https://palmsnc.la/calendar/westside-neighborhood-council-2nd-annual-safety-and-preparedness-fair/
LOCATION:Overland Elementary School\, 10650 Ashby Ave.\, Los Angeles\, CA\, 90064\, United States
CATEGORIES:Community Events
END:VEVENT
BEGIN:VEVENT
DTSTART;TZID=America/Los_Angeles:20190919T183000
DTEND;TZID=America/Los_Angeles:20190919T210000
DTSTAMP:20260424T045415
CREATED:20190909T023201Z
LAST-MODIFIED:20190909T023201Z
UID:2777-1568917800-1568926800@palmsnc.la
SUMMARY:CERT Class 2 of 7: Disaster Fire Suppression Techniques
DESCRIPTION:Join us for a class series on emergency and disaster responsiveness.  Although the website states that the class is full\, if you show up at the door you will still receive a seat.  Participation is free.  For more information visit the website here: https://www.eventbrite.com/e/lafd-cert-los-angeles-tickets-65588189039?aff=eprofsaved
URL:https://palmsnc.la/calendar/cert-class-2-of-7-disaster-fire-suppression-techniques/
LOCATION:Culver Palms Church of Christ\, 9733 Venice Blvd.\, Los Angeles\, CA\, 90034\, United States
CATEGORIES:Community Events
END:VEVENT
BEGIN:VEVENT
DTSTART;TZID=America/Los_Angeles:20190912T183000
DTEND;TZID=America/Los_Angeles:20190912T210000
DTSTAMP:20260424T045415
CREATED:20190909T023039Z
LAST-MODIFIED:20190909T023039Z
UID:2775-1568313000-1568322000@palmsnc.la
SUMMARY:CERT Class 1 of 7: Introduction to Disaster Awareness
DESCRIPTION:Join us for a class series on emergency and disaster responsiveness.  Although the website states that the class is full\, if you show up at the door you will still receive a seat.  Participation is free.  For more information visit the website here: https://www.eventbrite.com/e/lafd-cert-los-angeles-tickets-65588189039?aff=eprofsaved \n 
URL:https://palmsnc.la/calendar/cert-class-1-of-7-introduction-to-disaster-awareness/
LOCATION:Culver Palms Church of Christ\, 9733 Venice Blvd.\, Los Angeles\, CA\, 90034\, United States
CATEGORIES:Community Events
END:VEVENT
BEGIN:VEVENT
DTSTART;TZID=America/Los_Angeles:20190908T090000
DTEND;TZID=America/Los_Angeles:20190908T140000
DTSTAMP:20260424T045415
CREATED:20190907T230214Z
LAST-MODIFIED:20190907T230214Z
UID:2710-1567933200-1567951200@palmsnc.la
SUMMARY:Tree Giveaway
DESCRIPTION:The Motor Avenue Improvement Association is hosting a tree giveaway\, where you can pick up a free tree (while supplies last) at the Motor Avenue Farmer’s Market.  You can find more information here:
URL:https://palmsnc.la/calendar/tree-giveaway/
LOCATION:Motor Avenue Farmers Market\, corner of Motor Ave. & National Blvd.\, Los Angeles
CATEGORIES:Community Events
END:VEVENT
BEGIN:VEVENT
DTSTART;TZID=America/Los_Angeles:20190721T100000
DTEND;TZID=America/Los_Angeles:20190721T120000
DTSTAMP:20260424T045415
CREATED:20190703T222915Z
LAST-MODIFIED:20190718T043205Z
UID:2498-1563703200-1563710400@palmsnc.la
SUMMARY:Palms Expo Adventure
DESCRIPTION:Palms Neighborhood Council and MAIA invite you to a Palms Expo Adventure.  Get a limited edition Palms TAP card and learn how to use it by riding the Expo Line to the beach!  Meet at the Motor Avenue Farmers Market at 10 AM.  RSVP to Erika Graves at erika.graves@palmsnc.la.  You can find more information on the flyer here: PALMS EXPO ADVENTURE  \n 
URL:https://palmsnc.la/calendar/palms-expo-adventure/
LOCATION:Motor Avenue Farmers Market\, corner of Motor Ave. & National Blvd.\, Los Angeles
CATEGORIES:Community Events
END:VEVENT
BEGIN:VEVENT
DTSTART;VALUE=DATE:20190719
DTEND;VALUE=DATE:20190720
DTSTAMP:20260424T045415
CREATED:20190703T223921Z
LAST-MODIFIED:20190709T180007Z
UID:2505-1563494400-1563580799@palmsnc.la
SUMMARY:Youth Representative Application Deadline
DESCRIPTION:Today is the deadline to apply for the Youth Rep position.  You can find more information here: 2.Youth Rep App
URL:https://palmsnc.la/calendar/youth-representative-application-deadline/
LOCATION:CA
CATEGORIES:Community Events
END:VEVENT
BEGIN:VEVENT
DTSTART;TZID=America/Los_Angeles:20190710T190000
DTEND;TZID=America/Los_Angeles:20190710T210000
DTSTAMP:20260424T045415
CREATED:20190703T213543Z
LAST-MODIFIED:20190709T180636Z
UID:2452-1562785200-1562792400@palmsnc.la
SUMMARY:Venice Community Plan Update Workshop
DESCRIPTION:Join our neighboring community for an update on their community plan.  Visit the website for more information about community plans: https://www.planningthewestside.org/  Check the flyer for more information about this event here: Venice Community Plans Workshop Flyer
URL:https://palmsnc.la/calendar/venice-community-plan-update-workshop/
LOCATION:Mark Twain Middle School Cafeteria\, 2224 Walgrove Ave.\, Los Angeles\, CA\, 90066\, United States
CATEGORIES:Community Events
END:VEVENT
BEGIN:VEVENT
DTSTART;TZID=America/Los_Angeles:20190629T140000
DTEND;TZID=America/Los_Angeles:20190629T170000
DTSTAMP:20260424T045415
CREATED:20190627T045001Z
LAST-MODIFIED:20190709T180737Z
UID:2442-1561816800-1561827600@palmsnc.la
SUMMARY:Sustainable Development Workshop with NCSA
DESCRIPTION:Come Saturday\, June 29 to listen to representatives of neighborhood councils that have begun to incorporate sustainability (such as tree preservation\, energy conservation\, electric vehicle charging capabilities\, and stormwater capture) into their discussions with developers. And talk with representatives of the US Green Building Council and the City Planning Department\, as well as developers\, as we share best practices\, what has worked\, what hasn’t\, and where we want to go from here.  Visit https://www.ncsa.la/sustainable_practices_for_developers to learn more and to RSVP.
URL:https://palmsnc.la/calendar/sustainable-development-workshop-with-ncsa/
LOCATION:Tarzana Childcare Center\, 5700 Beckford Ave.\, Tarzana\, CA\, 91356\, United States
CATEGORIES:Community Events
END:VEVENT
BEGIN:VEVENT
DTSTART;TZID=America/Los_Angeles:20190629T120000
DTEND;TZID=America/Los_Angeles:20190629T140000
DTSTAMP:20260424T045415
CREATED:20190627T043559Z
LAST-MODIFIED:20190709T180808Z
UID:2439-1561809600-1561816800@palmsnc.la
SUMMARY:District 54 Open House
DESCRIPTION:Join Assemblymember Sydney Kamlager of District 54 for an open house this Saturday\, June 29 from 12:00 PM to 2:00 PM at 5601 West Slauson Ave.\, #200\, Culver City.  You can find more information here: District Office Open House Invitation
URL:https://palmsnc.la/calendar/district-54-open-house/
LOCATION:CA District 54 Office\, 5601 W Slauson Ave #200\, Culver City\, CA\, 90056\, United States
CATEGORIES:Community Events
END:VEVENT
BEGIN:VEVENT
DTSTART;TZID=America/Los_Angeles:20190622T100000
DTEND;TZID=America/Los_Angeles:20190622T120000
DTSTAMP:20260424T045415
CREATED:20190608T005656Z
LAST-MODIFIED:20190709T174338Z
UID:2407-1561197600-1561204800@palmsnc.la
SUMMARY:June Westside Community Plans Workshop
DESCRIPTION:Come out to the Windward School Gym (11350 Palms Blvd) from 10am – 12pm on Saturday\, June 22nd to give feedback about the Westside Community Plan. The more Palms stakeholders we have at this meeting\, the more we can ensure that our voices are heard and our interests are reflected in the plan. Here is the website: https://www.planningthewestside.org/events.html \n  \nCommunity Plans Workshops Flyer (Palms) English (1)
URL:https://palmsnc.la/calendar/june-westside-community-plans-workshop/
LOCATION:Windward School\, 11350 Palms Blvd.\, Los Angeles\, CA\, 90066\, United States
CATEGORIES:Community Events
END:VEVENT
BEGIN:VEVENT
DTSTART;TZID=America/Los_Angeles:20190602T100000
DTEND;TZID=America/Los_Angeles:20190602T160000
DTSTAMP:20260424T045415
CREATED:20190307T201009Z
LAST-MODIFIED:20190312T190530Z
UID:2203-1559469600-1559491200@palmsnc.la
SUMMARY:Palms NC Election Day!
DESCRIPTION:The Palms Neighborhood Council Election will be held on Sunday\, June 2nd\, 2019. \nVoting will take place at the IMAN Center located at 3376 Motor Avenue\, Los Angeles 90034 and the voting hours will be from 10:00 a.m. – 4:00 p.m.\nA full election timeline can be found here and a list of registered candidates here.
URL:https://palmsnc.la/calendar/palms-nc-election-day/
LOCATION:Untitled\, CA
CATEGORIES:Community Events
END:VEVENT
BEGIN:VEVENT
DTSTART;TZID=America/Los_Angeles:20190518T110000
DTEND;TZID=America/Los_Angeles:20190518T150000
DTSTAMP:20260424T045415
CREATED:20190405T030607Z
LAST-MODIFIED:20190502T012427Z
UID:2279-1558177200-1558191600@palmsnc.la
SUMMARY:3rd Annual Palms Community Day
DESCRIPTION:This family-friendly event showcases the neighborhood through food\, music\, art and conversation. This year’s event will feature food trucks\, local performing groups\, children’s games and more. We encourage our neighbors to connect with the Palms Neighborhood Council\, as well as local businesses\, community and governmental organizations. \nAs a neighborhood council representing one of the largest and most diverse neighborhoods in Los Angeles\, we look forward to bringing the community together to celebrate all things Palms. We hope you are able to explore the many ways you can help make a positive impact in our neighborhood. \nAdmission is free\, and all are welcome to attend. \nSign up to volunteer: https://forms.gle/ihNJYaYjMiLSxsmc8 \nFor business inquiries or questions\, please contact Justine Saquilayan\, Outreach and Communications Committee Chair\, at justine.saquilayan@palmsnc.la.
URL:https://palmsnc.la/calendar/3rd-annual-palms-community-day/
LOCATION:CA
CATEGORIES:Community Events
ATTACH;FMTTYPE=image/png:https://palmsnc.la/wp-content/uploads/2019/04/2019-PCD-horizontal-1160x1080.png
END:VEVENT
BEGIN:VEVENT
DTSTART;TZID=America/Los_Angeles:20190427T100000
DTEND;TZID=America/Los_Angeles:20190427T130000
DTSTAMP:20260424T045415
CREATED:20190422T205314Z
LAST-MODIFIED:20190422T205314Z
UID:2305-1556359200-1556370000@palmsnc.la
SUMMARY:Palms Earth Day Clean Up
DESCRIPTION:Palms Earth Day Clean Up \nJoin your neighbors to clean up Palms! \nWhen: Saturday\, April 27\, 10 a.m. to 1 p.m. \nWhere: Meet in front of Stanley’s Wet Goods at 9620 Venice Blvd. \nRSVP: eryn.block@palmsnc.la
URL:https://palmsnc.la/calendar/palms-earth-day-clean-up/
LOCATION:Stanley’s Wet Goods\, 9620 Venice Blvd.\, Los Angeles\, CA\, United States
CATEGORIES:Community Events
END:VEVENT
BEGIN:VEVENT
DTSTART;TZID=America/Los_Angeles:20190324T100000
DTEND;TZID=America/Los_Angeles:20190324T130000
DTSTAMP:20260424T045415
CREATED:20190317T172330Z
LAST-MODIFIED:20190317T172330Z
UID:2226-1553421600-1553432400@palmsnc.la
SUMMARY:Native Garden Work Day
DESCRIPTION:Native Garden Work Day\nWhen: Sunday\, March 24th\, 10 a.m. – 1 p.m.\nWhere: Corner of Motor Ave. and Irene\nWhat: Weeding\, planting\, watering native plants garden. Bring gloves\, sunscreen\, closed-toed shoes and water. Breakfast will be provided!\nRSVP: eryn.block@palmsnc.la
URL:https://palmsnc.la/calendar/native-garden-work-day/
LOCATION:CA
CATEGORIES:Community Events
END:VEVENT
BEGIN:VEVENT
DTSTART;TZID=America/Los_Angeles:20181118T100000
DTEND;TZID=America/Los_Angeles:20181118T120000
DTSTAMP:20260424T045415
CREATED:20181105T070749Z
LAST-MODIFIED:20181105T070749Z
UID:1871-1542535200-1542542400@palmsnc.la
SUMMARY:Palms Kindness Walk
DESCRIPTION:
URL:https://palmsnc.la/calendar/palms-kindness-walk/
LOCATION:Motor Avenue Farmers Market\, corner of Motor Ave. & National Blvd.\, Los Angeles
CATEGORIES:Community Events
END:VEVENT
BEGIN:VEVENT
DTSTART;TZID=America/Los_Angeles:20181101T190000
DTEND;TZID=America/Los_Angeles:20181101T210000
DTSTAMP:20260424T045415
CREATED:20181029T034215Z
LAST-MODIFIED:20181029T040359Z
UID:1845-1541098800-1541106000@palmsnc.la
SUMMARY:Proposition Primer: Panel Discussion of the Midterm Ballot
DESCRIPTION:The Palms Neighborhood Council and LA Forward are hosting a forum to inform the community about the propositions on the November ballot. Come and get more information and ask questions to know before you vote! \n\nLA Forward believes in activating a rising generation of Angelenos to create a fair\, flourishing Los Angeles. We connect people across LA who value justice and democracy with opportunities to partner with disadvantaged communities to change the policies and systems that limit our collective potential.
URL:https://palmsnc.la/calendar/proposition-primer-panel-discussion-of-the-midterm-ballot/
LOCATION:Untitled\, CA
CATEGORIES:Community Events
END:VEVENT
BEGIN:VEVENT
DTSTART;TZID=America/Los_Angeles:20181027T100000
DTEND;TZID=America/Los_Angeles:20181027T130000
DTSTAMP:20260424T045415
CREATED:20181015T063010Z
LAST-MODIFIED:20181015T063010Z
UID:1827-1540634400-1540645200@palmsnc.la
SUMMARY:Clean Up and Green Up Day
DESCRIPTION:Neighborhood Clean Up and Green Up Day\nWhen: Saturday\, October 27\, 10 a.m. – 1 p.m.\nWhere: Corner of Motor and Irene\n\nJoin your neighbors in planting and cleaning up trash along Motor Ave. We will provide breakfast before and pizza after. First 30 attendees will get a Palms NC t-shirt and swag.\n\n*Wear closed-toed shoes and bring a water bottle\, hat and gloves.
URL:https://palmsnc.la/calendar/clean-up-and-green-up-day/
LOCATION:CA
CATEGORIES:Community Events
END:VEVENT
BEGIN:VEVENT
DTSTART;TZID=America/Los_Angeles:20181021T100000
DTEND;TZID=America/Los_Angeles:20181021T130000
DTSTAMP:20260424T045415
CREATED:20181015T063059Z
LAST-MODIFIED:20181015T063059Z
UID:1824-1540116000-1540126800@palmsnc.la
SUMMARY:Recycled Art Projects for Kids & Parents
DESCRIPTION:Recycled Art Projects for Kids and Parents\nWhen: Sunday\, October 21\, 10 a.m. -1 p.m.\nWhere: Motor Avenue Farmer’s Market (Corner of Motor and Nation\n\nJoin us for a fun morning of arts and crafts with re-used items!\n\nFor more info: eryn.block@palmsnc.la
URL:https://palmsnc.la/calendar/recycled-art-projects-for-kids-parents/
LOCATION:Motor Avenue Farmers Market\, corner of Motor Ave. & National Blvd.\, Los Angeles
CATEGORIES:Community Events
END:VEVENT
BEGIN:VEVENT
DTSTART;TZID=America/Los_Angeles:20181014T100000
DTEND;TZID=America/Los_Angeles:20181014T130000
DTSTAMP:20260424T045415
CREATED:20181009T063859Z
LAST-MODIFIED:20181012T044651Z
UID:1812-1539511200-1539522000@palmsnc.la
SUMMARY:Palms Green Walk & Ride
DESCRIPTION:  \nJoin us for a neighborhood walk focused on sustainable transportation! The first 30 Palms stakeholders attending (who have not already received a Palms TAP card) will receive a limited-edition Palms TAP card that we’ll use to ride the Expo Line to Exposition Park.\n\nRSVP to Erika.Graves@palmsnc.la.
URL:https://palmsnc.la/calendar/palms-green-walk-ride/
LOCATION:Motor Avenue Farmers Market\, corner of Motor Ave. & National Blvd.\, Los Angeles
CATEGORIES:Community Events
END:VEVENT
BEGIN:VEVENT
DTSTART;TZID=America/Los_Angeles:20180909T100000
DTEND;TZID=America/Los_Angeles:20180909T130000
DTSTAMP:20260424T045415
CREATED:20180830T051615Z
LAST-MODIFIED:20180830T051615Z
UID:1716-1536487200-1536498000@palmsnc.la
SUMMARY:Palms Walk & Ride
DESCRIPTION:  \nRSVP required to Erika.Graves@palmsnc.la. This walk and ride is limited to 30 participants. TAP cards will only be distributed to Palms residents.
URL:https://palmsnc.la/calendar/palms-walk-ride/
LOCATION:Motor Avenue Farmers Market\, corner of Motor Ave. & National Blvd.\, Los Angeles
CATEGORIES:Community Events
END:VEVENT
BEGIN:VEVENT
DTSTART;TZID=America/Los_Angeles:20180826T090000
DTEND;TZID=America/Los_Angeles:20180826T103000
DTSTAMP:20260424T045415
CREATED:20180823T063641Z
LAST-MODIFIED:20180824T041338Z
UID:1707-1535274000-1535279400@palmsnc.la
SUMMARY:Palms Neighborhood Walk
DESCRIPTION:  \nJoin us for another Palms Neighborhood Walk this Sunday\, August 26th! \nMeet at 9 a.m. at the Motor Avenue Farmers Market on Motor Avenue and National Boulevard. \nQuestions? Contact Erika Graves\, Palms Neighborhood Council Residential Area B Representative\, at Erika.Graves@palmsnc.la. \n 
URL:https://palmsnc.la/calendar/palms-neighborhood-walk/
LOCATION:Motor Avenue Farmers Market\, corner of Motor Ave. & National Blvd.\, Los Angeles
CATEGORIES:Community Events
END:VEVENT
BEGIN:VEVENT
DTSTART;TZID=America/Los_Angeles:20180812T093000
DTEND;TZID=America/Los_Angeles:20180812T110000
DTSTAMP:20260424T045415
CREATED:20180710T065536Z
LAST-MODIFIED:20180810T151704Z
UID:1632-1534066200-1534071600@palmsnc.la
SUMMARY:Palms Kids Art Walk
DESCRIPTION:We’re hosting another walk for kids (and the young at heart) led by Shakuntala Zakheim\, an art teacher from Palms. We will do a short walk around Palms\, stopping along the way to create beautiful art with chalk (art will be cleaned up after the event). \nWhen: Sunday\, August 12\, at 9:30 a.m. \nWhere: Motor Avenue Farmers Market at Motor Ave and National Blvd \nQuestions? Contact Erika Graves at Erika.Graves@palmsnc.la.
URL:https://palmsnc.la/calendar/palms-kids-art-walk-2/
LOCATION:Motor Avenue Farmers Market\, corner of Motor Ave. & National Blvd.\, Los Angeles
CATEGORIES:Community Events
END:VEVENT
BEGIN:VEVENT
DTSTART;TZID=America/Los_Angeles:20180717T160000
DTEND;TZID=America/Los_Angeles:20180717T180000
DTSTAMP:20260424T045415
CREATED:20180712T202929Z
LAST-MODIFIED:20180712T202939Z
UID:1642-1531843200-1531850400@palmsnc.la
SUMMARY:CA District 54 Open House with Assemblymember Sydney Kamlager-Dove
DESCRIPTION:
URL:https://palmsnc.la/calendar/ca-district-54-open-house-with-assemblymember-sydney-kamlager-dove/
LOCATION:CA District 54 Office\, 5601 W Slauson Ave #200\, Culver City\, CA\, 90056\, United States
CATEGORIES:Community Events
END:VEVENT
BEGIN:VEVENT
DTSTART;TZID=America/Los_Angeles:20180701T093000
DTEND;TZID=America/Los_Angeles:20180701T110000
DTSTAMP:20260424T045415
CREATED:20180628T043118Z
LAST-MODIFIED:20180630T174852Z
UID:1611-1530437400-1530442800@palmsnc.la
SUMMARY:Palms Kids Art Walk
DESCRIPTION:Calling all kids to spread positive messages through art! \nThis walk for kids (and the young at heart) will be led by Shakuntala Zakheim\, an art teacher from Palms. We will do a short walk around Palms\, stopping along the way to create beautiful art with chalk (art will be cleaned up after the event). \nWhen: Sunday\, July 1\, at 9:30 a.m. \nWhere: Motor Avenue Farmers Market at Motor Ave and National Blvd \nQuestions? Contact Erika Graves at Erika.Graves@palmsnc.la.
URL:https://palmsnc.la/calendar/palms-kids-art-walk/
LOCATION:Motor Avenue Farmers Market\, corner of Motor Ave. & National Blvd.\, Los Angeles
CATEGORIES:Community Events
END:VEVENT
BEGIN:VEVENT
DTSTART;TZID=America/Los_Angeles:20180626T180000
DTEND;TZID=America/Los_Angeles:20180626T193000
DTSTAMP:20260424T045415
CREATED:20180615T222343Z
LAST-MODIFIED:20180615T222349Z
UID:1563-1530036000-1530041400@palmsnc.la
SUMMARY:Expo-Northvale Bicycle Path Open House
DESCRIPTION:Expo-Northvale Bicycle Path \nProcess to begin project of closing gap along Expo Bike Path in Palms. \nOpen house by City of LA at Palms-Rancho Park Branch Library Meeting Room\, Tuesday\, June 26\, 2018 from 6:00 to 7:30 PM.
URL:https://palmsnc.la/calendar/expo-northvale-bicycle-path-open-house/
LOCATION:Palms-Rancho Park Branch Library\, 2920 Overland Ave\, Los Angeles\, 90064\, United States
CATEGORIES:Community Events
END:VEVENT
BEGIN:VEVENT
DTSTART;TZID=America/Los_Angeles:20180617T090000
DTEND;TZID=America/Los_Angeles:20180617T103000
DTSTAMP:20260424T045415
CREATED:20180608T194840Z
LAST-MODIFIED:20180608T195842Z
UID:1555-1529226000-1529231400@palmsnc.la
SUMMARY:Palms Neighborhood Walk
DESCRIPTION:Join us for a Palms Neighborhood Walk every Sunday morning starting this June. \nMeet at 9 a.m. at the Motor Avenue Farmers Market on Motor Avenue and National Boulevard. \nParticipate in a new walk each week\, and bring your reusable bags to pick up produce from the farmers market. \nQuestions? Contact Erika Graves\, Palms Neighborhood Council Residential Area B Representative\, at Erika.Graves@palmsnc.la.
URL:https://palmsnc.la/calendar/palms-neighborhood-walk-06-17/
LOCATION:Motor Avenue Farmers Market\, corner of Motor Ave. & National Blvd.\, Los Angeles
CATEGORIES:Community Events
END:VEVENT
END:VCALENDAR