BEGIN:VCALENDAR
VERSION:2.0
PRODID:-//Palms Neighborhood Council - ECPv6.15.13.1//NONSGML v1.0//EN
CALSCALE:GREGORIAN
METHOD:PUBLISH
X-WR-CALNAME:Palms Neighborhood Council
X-ORIGINAL-URL:https://palmsnc.la
X-WR-CALDESC:Events for Palms Neighborhood Council
REFRESH-INTERVAL;VALUE=DURATION:PT1H
X-Robots-Tag:noindex
X-PUBLISHED-TTL:PT1H
BEGIN:VTIMEZONE
TZID:America/Los_Angeles
BEGIN:DAYLIGHT
TZOFFSETFROM:-0800
TZOFFSETTO:-0700
TZNAME:PDT
DTSTART:20200308T100000
END:DAYLIGHT
BEGIN:STANDARD
TZOFFSETFROM:-0700
TZOFFSETTO:-0800
TZNAME:PST
DTSTART:20201101T090000
END:STANDARD
BEGIN:DAYLIGHT
TZOFFSETFROM:-0800
TZOFFSETTO:-0700
TZNAME:PDT
DTSTART:20210314T100000
END:DAYLIGHT
BEGIN:STANDARD
TZOFFSETFROM:-0700
TZOFFSETTO:-0800
TZNAME:PST
DTSTART:20211107T090000
END:STANDARD
BEGIN:DAYLIGHT
TZOFFSETFROM:-0800
TZOFFSETTO:-0700
TZNAME:PDT
DTSTART:20220313T100000
END:DAYLIGHT
BEGIN:STANDARD
TZOFFSETFROM:-0700
TZOFFSETTO:-0800
TZNAME:PST
DTSTART:20221106T090000
END:STANDARD
END:VTIMEZONE
BEGIN:VEVENT
DTSTART;TZID=America/Los_Angeles:20210521T093000
DTEND;TZID=America/Los_Angeles:20210521T120000
DTSTAMP:20260419T053112
CREATED:20210410T204301Z
LAST-MODIFIED:20210508T182812Z
UID:4942-1621589400-1621598400@palmsnc.la
SUMMARY:Tree Summit LA
DESCRIPTION:Register here: https://us02web.zoom.us/webinar/register/WN_JH2SPVWJQCqxTH_rO3-F8Q
URL:https://palmsnc.la/calendar/tree-summit-la/
CATEGORIES:Community Events
END:VEVENT
BEGIN:VEVENT
DTSTART;TZID=America/Los_Angeles:20210522T100000
DTEND;TZID=America/Los_Angeles:20210522T120000
DTSTAMP:20260419T053112
CREATED:20210521T185351Z
LAST-MODIFIED:20210521T185351Z
UID:5116-1621677600-1621684800@palmsnc.la
SUMMARY:Budget Tribune Event: Follow the Money-LA's Budget and City Services
DESCRIPTION:Save the Money Event 522 {Budget Tribunes} (5) \nThe Budget Tribunes are proud to extend you\, your Board\, and Stakeholders an invitation to our first City-wide event\, Follow the Money: LA Budget & City Services on Saturday May 22nd at 10am via Zoom. \nThis event will be an interactive\, panelist driven event\, discussing our City’s most pressing issues; our quality of life\, green initiatives\, our services and more. Featuring one of our Councilmen\, Paul Koretz\, our Controller Ron Galperin\, key members from our City Departments\, a roundtable of NC leadership\, and a surprise guest! \nEach panel will also feature a brief Q&A\, polls\, and surveys to get your feedback in real time and use it to advocate for change on your behalf. All of the data will be available to you and your teams for analysis as well\, OPEN data is our policy! \nPlease\, if you have any questions\, please reach out to our Chair Josh Nadel at josh.nadel@palmsnc.la  or our Vice Chair John DiGregorio at johndpcnc@gmail.com. \nRegistration link for attendance tracking:https://forms.gle/FfKHyhaifZ2r9wRW7 \nZoom Link (Live 10am May 22nd): https://us02web.zoom.us/j/87944748055
URL:https://palmsnc.la/calendar/budget-tribune-event-follow-the-money-las-budget-and-city-services/
END:VEVENT
BEGIN:VEVENT
DTSTART;TZID=America/Los_Angeles:20210524T190000
DTEND;TZID=America/Los_Angeles:20210524T210000
DTSTAMP:20260419T053112
CREATED:20210426T043635Z
LAST-MODIFIED:20210523T192711Z
UID:5057-1621882800-1621890000@palmsnc.la
SUMMARY:SPECIAL MEETING: Homeless Advocacy & Public Service Committee Meeting
DESCRIPTION:The agenda and Zoom information can be found here: 2021-05-24 Homeless Advocacy & Public Service Agenda.docx
URL:https://palmsnc.la/calendar/special-meeting-homeless-advocacy-public-service-committee-meeting/
CATEGORIES:Meetings
END:VEVENT
BEGIN:VEVENT
DTSTART;TZID=America/Los_Angeles:20210525T190000
DTEND;TZID=America/Los_Angeles:20210525T210000
DTSTAMP:20260419T053112
CREATED:20201230T064348Z
LAST-MODIFIED:20210523T192802Z
UID:4456-1621969200-1621976400@palmsnc.la
SUMMARY:Venice Blvd Improvement Ad Hoc Committee Meeting
DESCRIPTION:The agenda and Zoom information can be found here: 2021-05-25 Venice Blvd Ad Hoc Committee Agenda
URL:https://palmsnc.la/calendar/venice-blvd-improvement-ad-hoc-committee-meeting-6/
CATEGORIES:Meetings
END:VEVENT
BEGIN:VEVENT
DTSTART;TZID=America/Los_Angeles:20210526T191500
DTEND;TZID=America/Los_Angeles:20210526T210000
DTSTAMP:20260419T053112
CREATED:20201230T054306Z
LAST-MODIFIED:20210524T040131Z
UID:4355-1622056500-1622062800@palmsnc.la
SUMMARY:Executive Board Committee Meeting
DESCRIPTION:The agenda and Zoom information can be found here: 2021-05-26 Executive Committee Agenda
URL:https://palmsnc.la/calendar/executive-board-committee-meeting-11/
CATEGORIES:Meetings
END:VEVENT
BEGIN:VEVENT
DTSTART;TZID=America/Los_Angeles:20210527T180000
DTEND;TZID=America/Los_Angeles:20210527T200000
DTSTAMP:20260419T053112
CREATED:20201230T063218Z
LAST-MODIFIED:20210525T163231Z
UID:4444-1622138400-1622145600@palmsnc.la
SUMMARY:Racial & Social Justice Committee Meeting
DESCRIPTION:The agenda and Zoom information can be found here: 2021-05-27 Joint Board and Racial and Social Justice Committee Meeting Agenda (1)
URL:https://palmsnc.la/calendar/racial-social-justice-committee-meeting-4/
CATEGORIES:Meetings
END:VEVENT
BEGIN:VEVENT
DTSTART;TZID=America/Los_Angeles:20210601T170000
DTEND;TZID=America/Los_Angeles:20210601T170000
DTSTAMP:20260419T053112
CREATED:20201207T024401Z
LAST-MODIFIED:20210325T040200Z
UID:4291-1622566800-1622566800@palmsnc.la
SUMMARY:NC Elections: Vote-By-Mail Application Period Ends
DESCRIPTION:You must request your Mail-In Ballot by June 1st. \nPlease go to our Elections page for more information.
URL:https://palmsnc.la/calendar/nc-election-vote-by-mail-period-ends/
CATEGORIES:Elections
END:VEVENT
BEGIN:VEVENT
DTSTART;TZID=America/Los_Angeles:20210602T190000
DTEND;TZID=America/Los_Angeles:20210602T210000
DTSTAMP:20260419T053112
CREATED:20201230T053857Z
LAST-MODIFIED:20210530T183944Z
UID:4345-1622660400-1622667600@palmsnc.la
SUMMARY:Palms Neighborhood Council General Assembly Meeting
DESCRIPTION:The agenda and Zoom information can be found here:2021-06-02 General Agenda vFINAL wSUPP
URL:https://palmsnc.la/calendar/palms-neighborhood-council-general-assembly-meeting-22/
CATEGORIES:Meetings
END:VEVENT
BEGIN:VEVENT
DTSTART;TZID=America/Los_Angeles:20210604T090000
DTEND;TZID=America/Los_Angeles:20210604T200000
DTSTAMP:20260419T053112
CREATED:20210325T042137Z
LAST-MODIFIED:20210325T042250Z
UID:4907-1622797200-1622836800@palmsnc.la
SUMMARY:NC Elections: Ballot Drop Box available
DESCRIPTION:You can drop off your mail-in ballot at a drop box starting June 4th at 9:00 am to June 8th at 8:00 pm at: \nPalms – Rancho Park Branch Library\n2920 Overland Avenue\nLos Angeles\, CA 90064\n\n*You can also mail your mail-in ballot; it must be postmarked by June 8th \nPlease go to our Elections page for more information.
URL:https://palmsnc.la/calendar/nc-elections-ballot-drop-box-available/
CATEGORIES:Elections
END:VEVENT
BEGIN:VEVENT
DTSTART;TZID=America/Los_Angeles:20210608T090000
DTEND;TZID=America/Los_Angeles:20210608T200000
DTSTAMP:20260419T053112
CREATED:20201207T023708Z
LAST-MODIFIED:20210325T041449Z
UID:4279-1623142800-1623182400@palmsnc.la
SUMMARY:Palms Neighborhood Council Election Day
DESCRIPTION:As part of Region 11 for Neighborhood Councils\, Palms NC Election Day is on June 8th. \n> Your mail-in ballot must be postmarked by June 8th\, or \n> Put in the ballot drop box by June 8th at 8:00 pm \nThe Ballot Drop Box for Palms NC will be available from June 4th at 9:00 am to June 8th at 8:00 pm at: \nPalms – Rancho Park Branch Library\n2920 Overland Avenue\nLos Angeles\, CA 90064\n\nPlease go to our Elections page for more information.
URL:https://palmsnc.la/calendar/region-11-neighborhood-council-elections/
CATEGORIES:Community Events,Elections
END:VEVENT
BEGIN:VEVENT
DTSTART;TZID=America/Los_Angeles:20210608T183000
DTEND;TZID=America/Los_Angeles:20210608T193000
DTSTAMP:20260419T053112
CREATED:20201230T055246Z
LAST-MODIFIED:20210606T004856Z
UID:4381-1623177000-1623180600@palmsnc.la
SUMMARY:Green Committee Special Meeting
DESCRIPTION:This month’s meeting start time is being pushed back to 6:30 PM.  The agenda and Zoom information can be found here: 6_8_21 Green Committee Agenda
URL:https://palmsnc.la/calendar/green-committee-meeting-24/
CATEGORIES:Meetings
END:VEVENT
BEGIN:VEVENT
DTSTART;TZID=America/Los_Angeles:20210609T190000
DTEND;TZID=America/Los_Angeles:20210609T210000
DTSTAMP:20260419T053112
CREATED:20201230T061056Z
LAST-MODIFIED:20210606T005153Z
UID:4422-1623265200-1623272400@palmsnc.la
SUMMARY:CANCELLED: Planning & Land Use Management Committee Meeting
DESCRIPTION:The PLUM meeting will be cancelled for the month of June.  The cancellation notice can be found here: 2021-06-09 PLUM Committee Agenda.  Meetings will resume in July.
URL:https://palmsnc.la/calendar/planning-land-use-management-committee-meeting-5/
CATEGORIES:Meetings
END:VEVENT
BEGIN:VEVENT
DTSTART;TZID=America/Los_Angeles:20210610T193000
DTEND;TZID=America/Los_Angeles:20210610T210000
DTSTAMP:20260419T053112
CREATED:20201230T062723Z
LAST-MODIFIED:20210608T214922Z
UID:4434-1623353400-1623358800@palmsnc.la
SUMMARY:Transportation & Infrastructure Committee Meeting
DESCRIPTION:The agenda and Zoom information can be found here: 2021-06-10 Transportation & Infrastructure Committee Agenda
URL:https://palmsnc.la/calendar/transportation-infrastructure-committee-meeting-18/
CATEGORIES:Meetings
END:VEVENT
BEGIN:VEVENT
DTSTART;VALUE=DATE:20210615
DTEND;VALUE=DATE:20210616
DTSTAMP:20260419T053112
CREATED:20201207T024546Z
LAST-MODIFIED:20210414T082118Z
UID:4293-1623715200-1623801599@palmsnc.la
SUMMARY:NC Election Unofficial Results Due
DESCRIPTION:View results on the City Clerk’s page (refer to Region 11): https://clerk.lacity.org/elections/neighborhood-council-elections/2021-nc-election-results.
URL:https://palmsnc.la/calendar/nc-election-unofficial-results-due/
CATEGORIES:Elections
END:VEVENT
BEGIN:VEVENT
DTSTART;TZID=America/Los_Angeles:20210615T190000
DTEND;TZID=America/Los_Angeles:20210615T210000
DTSTAMP:20260419T053112
CREATED:20201230T060720Z
LAST-MODIFIED:20210613T173754Z
UID:4410-1623783600-1623790800@palmsnc.la
SUMMARY:Joint Board & Outreach & Communications Meeting
DESCRIPTION:The agenda and Zoom information can be found here: 2021-05-15 Joint Board and Communications and Outreach Committee Meeting Agenda
URL:https://palmsnc.la/calendar/outreach-communications-meeting-6/
CATEGORIES:Meetings
END:VEVENT
BEGIN:VEVENT
DTSTART;TZID=America/Los_Angeles:20210616T173000
DTEND;TZID=America/Los_Angeles:20210616T190000
DTSTAMP:20260419T053112
CREATED:20210414T023434Z
LAST-MODIFIED:20210616T155959Z
UID:4969-1623864600-1623870000@palmsnc.la
SUMMARY:Neighborhood Council Elections Ad Hoc Committee Debrief Meeting
DESCRIPTION:The agenda and Zoom information can be found here: Ad Hoc Elections Committee SPECIAL Agenda 06_16_2021 \n*Note that meeting starts at 5:30PM (not 5:00PM)
URL:https://palmsnc.la/calendar/neighborhood-council-elections-ad-hoc-committee-debrief-meeting/
END:VEVENT
BEGIN:VEVENT
DTSTART;TZID=America/Los_Angeles:20210616T190000
DTEND;TZID=America/Los_Angeles:20210616T210000
DTSTAMP:20260419T053112
CREATED:20201230T054924Z
LAST-MODIFIED:20210613T173857Z
UID:4369-1623870000-1623877200@palmsnc.la
SUMMARY:Joint Board & Business Relations and Public Beautification Committee Meeting
DESCRIPTION:The Zoom information and agenda can be found here: 2021-06-17 Joint Board and Business and Beautification Agenda
URL:https://palmsnc.la/calendar/business-relations-and-public-beautification-committee-meeting-6/
CATEGORIES:Meetings
END:VEVENT
BEGIN:VEVENT
DTSTART;TZID=America/Los_Angeles:20210617T173000
DTEND;TZID=America/Los_Angeles:20210617T190000
DTSTAMP:20260419T053112
CREATED:20201230T055531Z
LAST-MODIFIED:20210613T174102Z
UID:4393-1623951000-1623956400@palmsnc.la
SUMMARY:CANCELLED: Homeless Advocacy & Public Service Committee Meeting
DESCRIPTION:This meeting is cancelled for the month of June.  Committee meetings will resume in July.
URL:https://palmsnc.la/calendar/homelessness-public-safety-committee-meeting-6/
CATEGORIES:Meetings
END:VEVENT
BEGIN:VEVENT
DTSTART;TZID=America/Los_Angeles:20210622T190000
DTEND;TZID=America/Los_Angeles:20210622T210000
DTSTAMP:20260419T053112
CREATED:20201230T064412Z
LAST-MODIFIED:20210622T022703Z
UID:4458-1624388400-1624395600@palmsnc.la
SUMMARY:CANCELLED: Venice Blvd Improvement Ad Hoc Committee Meeting
DESCRIPTION:The Venice Blvd Improvement Ad Hoc Committee Meeting is cancelled for June and will resume in July.
URL:https://palmsnc.la/calendar/venice-blvd-improvement-ad-hoc-committee-meeting-7/
CATEGORIES:Meetings
END:VEVENT
BEGIN:VEVENT
DTSTART;VALUE=DATE:20210623
DTEND;VALUE=DATE:20210624
DTSTAMP:20260419T053112
CREATED:20201207T024633Z
LAST-MODIFIED:20210414T082023Z
UID:4295-1624406400-1624492799@palmsnc.la
SUMMARY:NC Elections Official Results Due/Certification Deadline
DESCRIPTION:View results on the City Clerk’s page (refer to Region 11): https://clerk.lacity.org/elections/neighborhood-council-elections/2021-nc-election-results.
URL:https://palmsnc.la/calendar/nc-elections-official-results-due-certification-deadline/
CATEGORIES:Elections
END:VEVENT
BEGIN:VEVENT
DTSTART;TZID=America/Los_Angeles:20210623T150000
DTEND;TZID=America/Los_Angeles:20210623T170000
DTSTAMP:20260419T053112
CREATED:20210615T162735Z
LAST-MODIFIED:20210615T162735Z
UID:5144-1624460400-1624467600@palmsnc.la
SUMMARY:HCIDLA's COVID-19 Eviction Defense Program Webinar
DESCRIPTION:The City of Los Angeles Housing + Community Investment Department (HCIDLA’s) Rent Division in collaboration with the new COVID-19 Eviction Defense Program (EDP)\, will host a webinar presentation on June 23rd at 3:00 pm.\n\nThe presentations will cover an overview of the legal services that will be provided by the EDP. Services include assistance with eviction prevention\, case management services offering housing stability\, financial counseling and homeless prevention resources to families.\n\n\nFor event details visit the HCIDLA home page’s event section. \nRSVP HERE to attend. \n\n\nComplete Link: \nhttps://docs.google.com/a/lacity.org/forms/d/e/1FAIpQLScwbRujIcVB4IGu3OLuYN-Bfw7F-OG2Q5OVcJFCJsxyCPI8XQ/viewform?formkey=dGpuOHkyZ2xZWFBqaFFQMlUzYnp5QkE6MQ
URL:https://palmsnc.la/calendar/hcidlas-covid-19-eviction-defense-program-webinar/
CATEGORIES:Community Events
END:VEVENT
BEGIN:VEVENT
DTSTART;TZID=America/Los_Angeles:20210623T183000
DTEND;TZID=America/Los_Angeles:20210623T210000
DTSTAMP:20260419T053112
CREATED:20201230T054351Z
LAST-MODIFIED:20210622T021407Z
UID:4357-1624473000-1624482000@palmsnc.la
SUMMARY:Special Joint Board and Executive Board Committee Meeting
DESCRIPTION:The agenda and Zoom information can be found here: 2021-06-23 Special Executive Committee Meeting Agenda (2)
URL:https://palmsnc.la/calendar/executive-board-committee-meeting-12/
CATEGORIES:Meetings
END:VEVENT
BEGIN:VEVENT
DTSTART;TZID=America/Los_Angeles:20210624T180000
DTEND;TZID=America/Los_Angeles:20210624T200000
DTSTAMP:20260419T053112
CREATED:20201230T063244Z
LAST-MODIFIED:20210622T024830Z
UID:4446-1624557600-1624564800@palmsnc.la
SUMMARY:CANCELLED: Racial & Social Justice Committee Meeting
DESCRIPTION:The Racial & Social Justice Committee Meeting is cancelled for June and will resume in July.
URL:https://palmsnc.la/calendar/racial-social-justice-committee-meeting-5/
CATEGORIES:Meetings
END:VEVENT
BEGIN:VEVENT
DTSTART;TZID=America/Los_Angeles:20210707T190000
DTEND;TZID=America/Los_Angeles:20210707T210000
DTSTAMP:20260419T053112
CREATED:20210622T021519Z
LAST-MODIFIED:20210704T040941Z
UID:5153-1625684400-1625691600@palmsnc.la
SUMMARY:Palms Neighborhood Council General Assembly Meeting
DESCRIPTION:2021_0707 GA Meeting Agenda with supplementals
URL:https://palmsnc.la/calendar/palms-neighborhood-council-general-assembly-meeting-23/
CATEGORIES:Meetings
END:VEVENT
BEGIN:VEVENT
DTSTART;TZID=America/Los_Angeles:20210707T210000
DTEND;TZID=America/Los_Angeles:20210707T220000
DTSTAMP:20260419T053112
CREATED:20210707T022720Z
LAST-MODIFIED:20210707T022720Z
UID:5298-1625691600-1625695200@palmsnc.la
SUMMARY:Special Meeting: GA Meeting
DESCRIPTION:2021-07-07 Palms NC Special Meeting
URL:https://palmsnc.la/calendar/special-meeting-ga-meeting/
CATEGORIES:Meetings
END:VEVENT
BEGIN:VEVENT
DTSTART;TZID=America/Los_Angeles:20210708T180000
DTEND;TZID=America/Los_Angeles:20210708T193000
DTSTAMP:20260419T053112
CREATED:20210628T001110Z
LAST-MODIFIED:20210628T001110Z
UID:5289-1625767200-1625772600@palmsnc.la
SUMMARY:Proposed Draft Housing Element Plan Webinar
DESCRIPTION:July 2021 – LIVE WEBINARS\nThe Proposed Draft Housing Element Plan\nHCIDLA and Department of City Planning invite you to – Save the Date! \nCities and counties across California are rising to the challenge of the housing crisis by helping to identify local solutions to combat displacement\, produce more affordable housing and homeownership opportunities\, and lead to a more equitable sustainable City. In Los Angeles\, we are in the process of updating our Housing Element\, which will establish groundbreaking policies and programs to help foster more equitable housing opportunities across the City. When the update is adopted in October 2021\, it will establish new strategies for meeting Los Angeles’ housing goals. \nOver the next few weeks the City will release drafts of both\, the 2021-2029 Housing Element and the Safety Element 2021 Update. We invite you to attend one of two webinars to learn more about the drafts and participate in a question and answer session. \nSpanish interpretation available I Interpretación en español disponible. \n     The two July sessions will occur on: \nThursday\, July 8th\, 6 PM – 7:30 PM\nTuesday\, July 13th\, 12 PM – 1:30 PM \nDuring this next phase we are engaging Angelenos like yourself to provide feedback on the draft plan\, we hope you will join us! \nCLICK to learn more about the The Plan to House LA.\n\n\n\n\n\n\n\n\n\n\n\n\n\n\n\n\n\n\nCLICK HERE  to sign up to attend Thursday\, July 8 @ 6 PM\n\n\n\n\n\n\n\n\n\n\n\n\n\n\nCLICK HERE  to sign up to attend Tuesday\, July 13 @ 12 PM\n\n\n\n\n\n\n\n\n\n\n\n\n\n\n\n\n\n\n\nAbout the Housing Element \nThe Housing Element of the General Plan\, also called “the Plan to House LA\,” identifies Los Angeles’s housing needs and establishes clear goals and objectives to inform future policy considerations. When the update is completed\, the Housing Element will guide the creation and implementation of the City’s housing policy from 2021 to 2029. \nAbout the Safety Element \nThe Safety Element of the General Plan details Los Angeles’ strategy to prevent\, respond to\, and recover from disaster events. Recent state legislation requires the city to review and update\, as necessary\, the Safety Element alongside the Housing Element. As part of the Safety Element 2021 Update\, the City will integrate targeted amendments into the existing document to better illustrate the City’s approach to disaster management and resilience. More information is included in the Background\, Summary of Amendments\, and FAQ’s document.
URL:https://palmsnc.la/calendar/proposed-draft-housing-element-plan-webinar/
CATEGORIES:Community Events
END:VEVENT
BEGIN:VEVENT
DTSTART;TZID=America/Los_Angeles:20210708T193000
DTEND;TZID=America/Los_Angeles:20210708T210000
DTSTAMP:20260419T053112
CREATED:20210622T025001Z
LAST-MODIFIED:20210708T041101Z
UID:5208-1625772600-1625778000@palmsnc.la
SUMMARY:CANCELLED: Transportation & Infrastructure Committee Meeting
DESCRIPTION:2021-07-08 Transportation & Infrastructure Committee Agenda (CANCELED)
URL:https://palmsnc.la/calendar/transportation-infrastructure-committee-meeting-19/
CATEGORIES:Meetings
END:VEVENT
BEGIN:VEVENT
DTSTART;TZID=America/Los_Angeles:20210713T120000
DTEND;TZID=America/Los_Angeles:20210713T133000
DTSTAMP:20260419T053112
CREATED:20210628T001146Z
LAST-MODIFIED:20210628T171043Z
UID:5291-1626177600-1626183000@palmsnc.la
SUMMARY:Proposed Draft Housing Element Plan Webinar
DESCRIPTION:July 2021 – LIVE WEBINARS\nThe Proposed Draft Housing Element Plan\nHCIDLA and Department of City Planning invite you to – Save the Date! \nCities and counties across California are rising to the challenge of the housing crisis by helping to identify local solutions to combat displacement\, produce more affordable housing and homeownership opportunities\, and lead to a more equitable sustainable City. In Los Angeles\, we are in the process of updating our Housing Element\, which will establish groundbreaking policies and programs to help foster more equitable housing opportunities across the City. When the update is adopted in October 2021\, it will establish new strategies for meeting Los Angeles’ housing goals. \nOver the next few weeks the City will release drafts of both\, the 2021-2029 Housing Element and the Safety Element 2021 Update. We invite you to attend one of two webinars to learn more about the drafts and participate in a question and answer session. \nSpanish interpretation available I Interpretación en español disponible. \n     The two July sessions will occur on: \nThursday\, July 8th\, 6 PM – 7:30 PM\nTuesday\, July 13th\, 12 PM – 1:30 PM \nDuring this next phase we are engaging Angelenos like yourself to provide feedback on the draft plan\, we hope you will join us! \nCLICK to learn more about the The Plan to House LA.\n\n\n\n\n\n\n\n\n\n\n\n\n\n\n\n\n\n\nCLICK HERE  to sign up to attend Thursday\, July 8 @ 6 PM\n\n\n\n\n\n\n\n\n\n\n\n\n\n\nCLICK HERE  to sign up to attend Tuesday\, July 13 @ 12 PM\n\n\n\n\n\n\n\n\n\n\n\n\n\n\n\n\n\n\n\nAbout the Housing Element \nThe Housing Element of the General Plan\, also called “the Plan to House LA\,” identifies Los Angeles’s housing needs and establishes clear goals and objectives to inform future policy considerations. When the update is completed\, the Housing Element will guide the creation and implementation of the City’s housing policy from 2021 to 2029.About the Safety Element \nThe Safety Element of the General Plan details Los Angeles’ strategy to prevent\, respond to\, and recover from disaster events. Recent state legislation requires the city to review and update\, as necessary\, the Safety Element alongside the Housing Element. As part of the Safety Element 2021 Update\, the City will integrate targeted amendments into the existing document to better illustrate the City’s approach to disaster management and resilience. More information is included in the Background\, Summary of Amendments\, and FAQ’s document.
URL:https://palmsnc.la/calendar/proposed-draft-housing-element-plan-webinar-2/
CATEGORIES:Community Events
END:VEVENT
BEGIN:VEVENT
DTSTART;TZID=America/Los_Angeles:20210713T180000
DTEND;TZID=America/Los_Angeles:20210713T193000
DTSTAMP:20260419T053112
CREATED:20210622T022802Z
LAST-MODIFIED:20210711T004539Z
UID:5167-1626199200-1626204600@palmsnc.la
SUMMARY:Green Committee Meeting
DESCRIPTION:The agenda and Zoom information can be found here: 7_13_2021 Green Committee Agenda
URL:https://palmsnc.la/calendar/green-committee-meeting-25/
CATEGORIES:Meetings
END:VEVENT
BEGIN:VEVENT
DTSTART;TZID=America/Los_Angeles:20210714T190000
DTEND;TZID=America/Los_Angeles:20210714T210000
DTSTAMP:20260419T053112
CREATED:20210622T023813Z
LAST-MODIFIED:20210712T015046Z
UID:5193-1626289200-1626296400@palmsnc.la
SUMMARY:Planning & Land Use Management Committee Meeting
DESCRIPTION:The agenda and Zoom information can be found here: 2021-07-14 PLUM Committee Agenda
URL:https://palmsnc.la/calendar/planning-land-use-management-committee-meeting-6/
CATEGORIES:Meetings
END:VEVENT
END:VCALENDAR