BEGIN:VCALENDAR
VERSION:2.0
PRODID:-//Palms Neighborhood Council - ECPv6.15.13.1//NONSGML v1.0//EN
CALSCALE:GREGORIAN
METHOD:PUBLISH
X-WR-CALNAME:Palms Neighborhood Council
X-ORIGINAL-URL:https://palmsnc.la
X-WR-CALDESC:Events for Palms Neighborhood Council
REFRESH-INTERVAL;VALUE=DURATION:PT1H
X-Robots-Tag:noindex
X-PUBLISHED-TTL:PT1H
BEGIN:VTIMEZONE
TZID:America/Los_Angeles
BEGIN:DAYLIGHT
TZOFFSETFROM:-0800
TZOFFSETTO:-0700
TZNAME:PDT
DTSTART:20200308T100000
END:DAYLIGHT
BEGIN:STANDARD
TZOFFSETFROM:-0700
TZOFFSETTO:-0800
TZNAME:PST
DTSTART:20201101T090000
END:STANDARD
BEGIN:DAYLIGHT
TZOFFSETFROM:-0800
TZOFFSETTO:-0700
TZNAME:PDT
DTSTART:20210314T100000
END:DAYLIGHT
BEGIN:STANDARD
TZOFFSETFROM:-0700
TZOFFSETTO:-0800
TZNAME:PST
DTSTART:20211107T090000
END:STANDARD
BEGIN:DAYLIGHT
TZOFFSETFROM:-0800
TZOFFSETTO:-0700
TZNAME:PDT
DTSTART:20220313T100000
END:DAYLIGHT
BEGIN:STANDARD
TZOFFSETFROM:-0700
TZOFFSETTO:-0800
TZNAME:PST
DTSTART:20221106T090000
END:STANDARD
END:VTIMEZONE
BEGIN:VEVENT
DTSTART;TZID=America/Los_Angeles:20210714T190000
DTEND;TZID=America/Los_Angeles:20210714T210000
DTSTAMP:20260420T053508
CREATED:20210622T023813Z
LAST-MODIFIED:20210712T015046Z
UID:5193-1626289200-1626296400@palmsnc.la
SUMMARY:Planning & Land Use Management Committee Meeting
DESCRIPTION:The agenda and Zoom information can be found here: 2021-07-14 PLUM Committee Agenda
URL:https://palmsnc.la/calendar/planning-land-use-management-committee-meeting-6/
CATEGORIES:Meetings
END:VEVENT
BEGIN:VEVENT
DTSTART;TZID=America/Los_Angeles:20210715T173000
DTEND;TZID=America/Los_Angeles:20210715T190000
DTSTAMP:20260420T053509
CREATED:20210622T030551Z
LAST-MODIFIED:20210712T194017Z
UID:5246-1626370200-1626375600@palmsnc.la
SUMMARY:Homeless Advocacy & Public Service Committee Meeting
DESCRIPTION:The agenda and Zoom information can be found here: 2021-07-15 Homeless Advocacy & Public Service Agenda.docx
URL:https://palmsnc.la/calendar/homeless-advocacy-public-service-committee-meeting/
CATEGORIES:Meetings
END:VEVENT
BEGIN:VEVENT
DTSTART;TZID=America/Los_Angeles:20210720T190000
DTEND;TZID=America/Los_Angeles:20210720T210000
DTSTAMP:20260420T053509
CREATED:20210622T025846Z
LAST-MODIFIED:20210719T203306Z
UID:5220-1626807600-1626814800@palmsnc.la
SUMMARY:Joint Board and Outreach & Communications Meeting
DESCRIPTION:The agenda and Zoom information can be found here: Joint Board & Outreach Agenda 7_20_2021
URL:https://palmsnc.la/calendar/outreach-communications-meeting-7/
CATEGORIES:Meetings
END:VEVENT
BEGIN:VEVENT
DTSTART;TZID=America/Los_Angeles:20210721T190000
DTEND;TZID=America/Los_Angeles:20210721T210000
DTSTAMP:20260420T053509
CREATED:20210622T030200Z
LAST-MODIFIED:20210719T203423Z
UID:5234-1626894000-1626901200@palmsnc.la
SUMMARY:Joint Board and Business Relations and Public Beautification Committee Meeting
DESCRIPTION:The agenda and Zoom information can be found here: 2021-07-21 Joint Board and Business Relations and Public Beautification Agenda
URL:https://palmsnc.la/calendar/business-relations-and-public-beautification-committee-meeting-7/
CATEGORIES:Meetings
END:VEVENT
BEGIN:VEVENT
DTSTART;TZID=America/Los_Angeles:20210722T180000
DTEND;TZID=America/Los_Angeles:20210722T200000
DTSTAMP:20260420T053509
CREATED:20210622T023406Z
LAST-MODIFIED:20210721T182326Z
UID:5179-1626976800-1626984000@palmsnc.la
SUMMARY:CANCELLED: Racial & Social Justice Committee Meeting
DESCRIPTION:2021-07-22 Joint Board and Racial and Social Justice Committee Meeting Agenda
URL:https://palmsnc.la/calendar/racial-social-justice-committee-meeting-6/
CATEGORIES:Meetings
END:VEVENT
BEGIN:VEVENT
DTSTART;TZID=America/Los_Angeles:20210727T190000
DTEND;TZID=America/Los_Angeles:20210727T210000
DTSTAMP:20260420T053509
CREATED:20210622T031037Z
LAST-MODIFIED:20210726T181157Z
UID:5258-1627412400-1627419600@palmsnc.la
SUMMARY:Venice Blvd Improvement Ad Hoc Committee Meeting
DESCRIPTION:The agenda and Zoom information can be found here: 2021-07-27 Venice Blvd Ad Hoc Committee Agenda
URL:https://palmsnc.la/calendar/venice-blvd-improvement-ad-hoc-committee-meeting-8/
CATEGORIES:Meetings
END:VEVENT
BEGIN:VEVENT
DTSTART;TZID=America/Los_Angeles:20210728T190000
DTEND;TZID=America/Los_Angeles:20210728T210000
DTSTAMP:20260420T053509
CREATED:20210622T023455Z
LAST-MODIFIED:20210726T181250Z
UID:5181-1627498800-1627506000@palmsnc.la
SUMMARY:Executive Board Committee Meeting
DESCRIPTION:2021-07-28 Executive Committee Meeting Agenda wSupplementals
URL:https://palmsnc.la/calendar/executive-board-committee-meeting-13/
CATEGORIES:Meetings
END:VEVENT
BEGIN:VEVENT
DTSTART;TZID=America/Los_Angeles:20210804T184500
DTEND;TZID=America/Los_Angeles:20210804T220000
DTSTAMP:20260420T053509
CREATED:20210622T021541Z
LAST-MODIFIED:20210804T175629Z
UID:5155-1628102700-1628114400@palmsnc.la
SUMMARY:Palms Neighborhood Council Special General Assembly Meeting
DESCRIPTION:2021-08-04 Palms NC Special GA Meeting Agenda w-Supplementals (1)
URL:https://palmsnc.la/calendar/palms-neighborhood-council-general-assembly-meeting-24/
CATEGORIES:Meetings
END:VEVENT
BEGIN:VEVENT
DTSTART;TZID=America/Los_Angeles:20210810T180000
DTEND;TZID=America/Los_Angeles:20210810T193000
DTSTAMP:20260420T053509
CREATED:20210622T022828Z
LAST-MODIFIED:20210810T045049Z
UID:5169-1628618400-1628623800@palmsnc.la
SUMMARY:CANCELLED: Green Committee Meeting
DESCRIPTION:This meeting will be rescheduled later in August to achieve quorum. CANCEL GC MEETING AUGUST 10 2021.docx
URL:https://palmsnc.la/calendar/green-committee-meeting-26/
CATEGORIES:Meetings
END:VEVENT
BEGIN:VEVENT
DTSTART;TZID=America/Los_Angeles:20210811T190000
DTEND;TZID=America/Los_Angeles:20210811T210000
DTSTAMP:20260420T053509
CREATED:20210622T023834Z
LAST-MODIFIED:20210810T045149Z
UID:5195-1628708400-1628715600@palmsnc.la
SUMMARY:Planning & Land Use Management Committee Meeting
DESCRIPTION:2021-08-11 PLUM Agenda
URL:https://palmsnc.la/calendar/planning-land-use-management-committee-meeting-7/
CATEGORIES:Meetings
END:VEVENT
BEGIN:VEVENT
DTSTART;TZID=America/Los_Angeles:20210812T193000
DTEND;TZID=America/Los_Angeles:20210812T210000
DTSTAMP:20260420T053509
CREATED:20210622T025021Z
LAST-MODIFIED:20210810T045327Z
UID:5210-1628796600-1628802000@palmsnc.la
SUMMARY:Transportation & Infrastructure Committee Meeting
DESCRIPTION:2021-08-12 Transportation & Infrastructure Committee Agenda
URL:https://palmsnc.la/calendar/transportation-infrastructure-committee-meeting-20/
CATEGORIES:Meetings
END:VEVENT
BEGIN:VEVENT
DTSTART;TZID=America/Los_Angeles:20210817T190000
DTEND;TZID=America/Los_Angeles:20210817T210000
DTSTAMP:20260420T053509
CREATED:20210622T025905Z
LAST-MODIFIED:20210816T051525Z
UID:5222-1629226800-1629234000@palmsnc.la
SUMMARY:Joint Board and Outreach & Communications Meeting
DESCRIPTION:Outreach Committee Agenda August 17\, 2021
URL:https://palmsnc.la/calendar/outreach-communications-meeting-8/
CATEGORIES:Meetings
END:VEVENT
BEGIN:VEVENT
DTSTART;TZID=America/Los_Angeles:20210818T190000
DTEND;TZID=America/Los_Angeles:20210818T210000
DTSTAMP:20260420T053509
CREATED:20210622T030218Z
LAST-MODIFIED:20210816T052637Z
UID:5236-1629313200-1629320400@palmsnc.la
SUMMARY:Joint Board and Business Relations and Public Beautification Committee Meeting
DESCRIPTION:2021-08-18 Joint Board and Business Relations and Public Beautification Agenda
URL:https://palmsnc.la/calendar/business-relations-and-public-beautification-committee-meeting-8/
CATEGORIES:Meetings
END:VEVENT
BEGIN:VEVENT
DTSTART;TZID=America/Los_Angeles:20210819T173000
DTEND;TZID=America/Los_Angeles:20210819T190000
DTSTAMP:20260420T053509
CREATED:20210622T030610Z
LAST-MODIFIED:20210818T215109Z
UID:5248-1629394200-1629399600@palmsnc.la
SUMMARY:Homeless Advocacy & Public Service Committee Meeting
DESCRIPTION:2021-08-19 Homeless Advocacy & Public Service Agenda.docx
URL:https://palmsnc.la/calendar/homeless-advocacy-public-service-committee-meeting-2/
CATEGORIES:Meetings
END:VEVENT
BEGIN:VEVENT
DTSTART;TZID=America/Los_Angeles:20210821T100000
DTEND;TZID=America/Los_Angeles:20210821T100000
DTSTAMP:20260420T053509
CREATED:20210721T054101Z
LAST-MODIFIED:20210721T185101Z
UID:5346-1629540000-1629540000@palmsnc.la
SUMMARY:Budget Day
DESCRIPTION:Save the date for Budget Day!  https://www.budgetadvocates.com/
URL:https://palmsnc.la/calendar/budget-day/
END:VEVENT
BEGIN:VEVENT
DTSTART;TZID=America/Los_Angeles:20210822T173000
DTEND;TZID=America/Los_Angeles:20210822T190000
DTSTAMP:20260420T053509
CREATED:20210821T164301Z
LAST-MODIFIED:20210823T033711Z
UID:5389-1629653400-1629658800@palmsnc.la
SUMMARY:SPECIAL MEETING: Transportation Committee
DESCRIPTION:This will be a Special Meeting to discuss Phase 2 of the Slow Streets program.2021-08-22 Transportation & Infrastructure Committee Special Meeting Agenda
URL:https://palmsnc.la/calendar/special-meeting-transportation-committee/
CATEGORIES:Meetings
END:VEVENT
BEGIN:VEVENT
DTSTART;TZID=America/Los_Angeles:20210823T183000
DTEND;TZID=America/Los_Angeles:20210823T200000
DTSTAMP:20260420T053509
CREATED:20210822T211942Z
LAST-MODIFIED:20210823T033913Z
UID:5406-1629743400-1629748800@palmsnc.la
SUMMARY:SPECIAL MEETING: Green Committee
DESCRIPTION:The Green Committee has rescheduled the regular monthly meeting to 8/23.8_23_2021 Green Committee Agenda.docx
URL:https://palmsnc.la/calendar/special-meeting-green-committee/
CATEGORIES:Meetings
END:VEVENT
BEGIN:VEVENT
DTSTART;TZID=America/Los_Angeles:20210824T190000
DTEND;TZID=America/Los_Angeles:20210824T210000
DTSTAMP:20260420T053509
CREATED:20210622T031140Z
LAST-MODIFIED:20210821T164618Z
UID:5260-1629831600-1629838800@palmsnc.la
SUMMARY:Venice Blvd Improvement Ad Hoc Committee Meeting
DESCRIPTION:2021-08-24 Venice Blvd Ad Hoc Committee Agenda
URL:https://palmsnc.la/calendar/venice-blvd-improvement-ad-hoc-committee-meeting-9/
CATEGORIES:Meetings
END:VEVENT
BEGIN:VEVENT
DTSTART;TZID=America/Los_Angeles:20210825T180000
DTEND;TZID=America/Los_Angeles:20210825T190000
DTSTAMP:20260420T053509
CREATED:20210821T182722Z
LAST-MODIFIED:20210824T171220Z
UID:5397-1629914400-1629918000@palmsnc.la
SUMMARY:SPECIAL MEETING: General Assembly Special Meeting
DESCRIPTION:This special meeting is to address appointing board members to attend Civic U\, and any other urgent business.2021-08-25 Special GA Meeting Agenda
URL:https://palmsnc.la/calendar/special-meeting-general-assembly-special-meeting/
CATEGORIES:Meetings
END:VEVENT
BEGIN:VEVENT
DTSTART;TZID=America/Los_Angeles:20210825T191500
DTEND;TZID=America/Los_Angeles:20210825T210000
DTSTAMP:20260420T053509
CREATED:20210622T023518Z
LAST-MODIFIED:20210824T171122Z
UID:5183-1629918900-1629925200@palmsnc.la
SUMMARY:Executive Board Committee Meeting (CANCELLED)
DESCRIPTION:08_25_2021 Palms NC Exec Committee Cancellation Agenda
URL:https://palmsnc.la/calendar/executive-board-committee-meeting-14/
CATEGORIES:Meetings
END:VEVENT
BEGIN:VEVENT
DTSTART;TZID=America/Los_Angeles:20210826T180000
DTEND;TZID=America/Los_Angeles:20210826T193000
DTSTAMP:20260420T053509
CREATED:20210821T165347Z
LAST-MODIFIED:20210821T165347Z
UID:5393-1630000800-1630006200@palmsnc.la
SUMMARY:Region 11 Election Feedback Session
DESCRIPTION:Regional & Citywide NC election feedback sessions\n\nMany thanks to all who participated in the 2020-2021 Neighborhood Council elections! Please join us at one of our upcoming Zoom sessions to discuss the elections and talk about what worked; what didn’t; and what best practices we can gather from the experience.\n\nThere will be a total of five NC election feedback sessions – four with a regional focus\, plus one Citywide town hall hosted by the Board of Neighborhood Commissioners.\n\nWhile the presentation at each session will center on the regions listed for that date\, you are welcome to join whenever it suits your schedule. All regional reports will be shared with everyone who RSVPs when the series ends.\n\nNot sure which region you are in? Look it up at:\nhttp://tiny.cc/2021NCElectionTimelines\n\n\nNorth/South Valley (Regions 1 – 4) – Monday August 23 (6:00 – 7:30pm)\nHarbor/West (Regions 11 & 12) – Thursday August 26 (6:00 – 7:30pm)\nBoard of Neighborhood Commissioners Election Town Hall (Citywide\, Regions 1 – 12) – Tuesday August 31 (6:00 – 8:00pm)\nSouth LA (Regions 9 & 10) – Wednesday September 1 (6:00 – 7:30pm)\nEast/Central (Regions 5 – 8) – Wednesday September 8 (6:00 – 7:30pm)\n\n\nRSVP now:\nhttp://tiny.cc/NCElectionFeedback\n\nInfo to join these Zoom meetings online or by phone will be shared in the Eventbrite registration confirmation sent to the email address you use to RSVP.\n\nWe also welcome your comments in writing – please email Feedback@EmpowerLA.org.\n\n\n\n\n\n\n\n\n\n\n\n\n\n\n\n\n\n\n\n\n\n\n\n\n\n\n\n\n\n\n\n\n\n\n\n\n\n\n\n\n\n\n\n\n\n\n\n\n\n\n\n\n\n\n\n\n\n\n\n\n\n\n\n\n\n\n\n\n\n\n\n\n\n\n\n\n\n\n\n\n\n\n\n\n\n\n\n\n\n\n\n\n\n\n\n\n\n\n\n\n\n\n\n\n\n\n\n\n\n\n\n\n\n\n\n\n\n\n\n\n\n\n\n\n\n\n\n\n\n\n\n\n\n\n\n\n\n\n\n\n\n\n\n\n\n\n\n\n\n\n\n\n\n\n\n\n\n\n\n\n\n\n\n\n\n\n\n\n\n\n\n\n\n\n\n\n\n\n\n\n\n\n\n\n\n\n\n\n\n\n\n\n\n\n\n\n\n\n\n\n\n\n\n\n\n\n\n\n\n\n\n\n\n\n\n\n\n\n\n\n\n\n\n\n\n\n\n\n\n\n\n\n\n\n\n\n\n\n\n\n\n\n\n\n\n\n\n\n\n\n\n\n\n\n\n\nRedistricting: Upcoming meetings for City Council\, LAUSD\, and State of California\n\n\nLea esta información en Español:\nhttp://tiny.cc/ReestructuracionDistrital\n\n\nRedistricting Commissions for the City of Los Angeles\, State of California\, and the LA Unified School District are very interested in hearing from Neighborhood Councils and the communities they serve.\n\nPlease share your thoughts on the redistricting process in writing or at one of the meetings below\, and please share this info with your neighbors\, to ensure you get the representation you need and deserve.\n\n\nWHAT IS REDISTRICTING?\n\nRedistricting redraws the boundaries for elected offices. It happens every 10 years\, the year after the U.S. Census takes place.\n\nBoundaries are redrawn based on the latest Census data\, as well as on community feedback. That’s why writing letters or attending redistricting meetings can have a real impact on ensuring your community has a strong voice and its fair share of resources.\n\n\n\nWHAT DISTRICT(S) AM I IN?\n\nThe State\, School District\, and City oversee redistricting for different elected offices. Search for your districts at http://neighborhoodinfo.LAcity.org.\n\n\n\nLOS ANGELES CITY COUNCIL\n\nTwo Citywide sessions are planned to discuss the boundaries of the 15 LA City Council Districts. See an LA City Council District map: http://tiny.cc/CityCouncilMap.\n\n\nWednesday\, August 25\, 6:00pm (session conducted in Spanish)\nSaturday\, September 11\, 10:00am (session conducted English)\n\n\nTo join these meetings online: http://bit.ly/LACCRCZoom\nTo join by phone: call (669) 254-5252\, enter 161 545 4787#\n\nTo request to speak\, use the Raise Hand button (if joining online) or press *9 (if joining by phone). You will have 3 minutes to speak – see public comment tips below. To submit written comments\, visit http://bit.ly/lacitycoi.\n\nLearn more about LA City Council redistricting and see additional public session announcements at http://laccrc2021.org.\n\n\n\nLA UNIFIED SCHOOL DISTRICT (BOARD OF EDUCATION)\n\nHere are the upcoming virtual meetings to discuss boundary lines for the Los Angeles Unified School District/Board of Education:\n\n\nSaturday\, August 21\, 11:00am\nMonday\, August 23\, 6:30pm\nWednesday\, August 25\, 6:30pm\nSaturday\, August 28\, 11:00am\nMonday\, August 30\, 6:30pm\nWednesday\, September 1\, 6:30pm\n\n\nAll meetings are held on Zoom. Join online at https://bit.ly/redistrictlausd\nOr join by phone: 1 (669) 254-5252\nMeeting ID: 161 077 4991\n\nSpanish interpretation will be provided at all LAUSD meetings. To request interpretation services in a different language\, please email redistricting.LAUSD@lacity.org or call (213) 221-2245\, at least 72 hours in advance of the hearing.\n\nFor updates\, follow @RedistrictLAUSD on Facebook\, Instagram and Twitter.\n\n\n\nSTATE OF CALIFORNIA (CONGRESS\, STATE OFFICES)\n\nState redistricting discussions include Congress (US House of Representatives)\, California State Senate\, California State Assembly\, and the State Board of Equalization (property\, alcohol\, and insurance company taxes.)\n\nAngelenos can weigh in on how the California redraws boundaries for these districts on Wednesday September 8 (3:00 – 7:00pm). The meeting will be in English with Spanish\, Mandarin\, Cantonese\, Japanese translation.\n\nJoin by phone at (877) 853-5247 and enter code: 912 4902 1623\, or watch live online\, at: http://videossc.com/CRC/.\n\nPublic comments must be made by phone during the State’s sessions\, by calling (877) 853-5247 and pressing *9. You will have 3 minutes to speak. (See public comment tips below.)\n\nSubmit written comments online at http://DrawMyCACommunity.org\, or email them to VotersFirstAct@crc.ca.gov.\n\nLearn more about the 2020 California Citizens Redistricting Commission: https://www.wedrawthelinesca.org/.\n\nNeed help or have questions? Please call (916) 323-0323.\n\n\n\nHOW TO MAKE A GREAT PUBLIC COMMENT\n\nIf you comment at a meeting\, you will only have 3 minutes to speak\, so make sure to share your most important point first.\n\nWhether you comment live or in writing\, the California Redistricting Commission suggests covering these points below\, to create maximum impact:\n\n\nState your location – city\, county\, School District\, or neighborhood name.\nMention the street names or landmarks in your neighborhood to help identify your community.\nWhat shared interests define your community?\nWhat brings you together?\nWhat is important to your community?\nAre there nearby areas you want to be in a district with?\nNearby areas you don’t want to be in a district with? Why or why not?\nHas your community come together to advocate for important services\, better schools\, roads\, or health centers in your neighborhood?\n\n\n\n\n\n\n\n\n\n\n\n\n\n\n\n\n\n\n\n\n\n\n\n\n\n\n\n\n\n\n\n\n\n\n\n\n\n\n\n\n\n\n\n\n\n\n\n\n\n\n\n\n\n\n\n\n\n\n\n\n\n\n\n\n\n\n\n\n\n\n\n\n\n\n\n\n\n\n\n\n\n\n\n\n\n\n\n\n\n\n\n\n\n\n\n\n\n\n\n\n\n\n\n\n\n\n\n\n\n\n\n\n\n\n@EmpowerLA\n\n\n\n\n\n\n\n\n\n\n\n\n\n\n\n\n\n\n\n\n ?  ?  ?  ?
URL:https://palmsnc.la/calendar/region-11-election-feedback-session/
CATEGORIES:Elections
END:VEVENT
BEGIN:VEVENT
DTSTART;TZID=America/Los_Angeles:20210826T180000
DTEND;TZID=America/Los_Angeles:20210826T200000
DTSTAMP:20260420T053509
CREATED:20210802T225147Z
LAST-MODIFIED:20210824T171940Z
UID:5363-1630000800-1630008000@palmsnc.la
SUMMARY:Racial & Social Justice Committee Meeting
DESCRIPTION:2021-08-26 Racial and Social Justice Committee Meeting Agenda
URL:https://palmsnc.la/calendar/racial-social-justice-committee-meeting-7/
CATEGORIES:Meetings
END:VEVENT
BEGIN:VEVENT
DTSTART;TZID=America/Los_Angeles:20210826T203000
DTEND;TZID=America/Los_Angeles:20210826T220000
DTSTAMP:20260420T053509
CREATED:20210824T171438Z
LAST-MODIFIED:20210824T171438Z
UID:5432-1630009800-1630015200@palmsnc.la
SUMMARY:SPECIAL MEETING: Joint Board and Transportation and Infrastructure Meeting
DESCRIPTION:2021-08-26 Transportation & Infrastructure Committee Special Meeting Agenda
URL:https://palmsnc.la/calendar/special-meeting-joint-board-and-transportation-and-infrastructure-meeting/
CATEGORIES:Meetings
END:VEVENT
BEGIN:VEVENT
DTSTART;TZID=America/Los_Angeles:20210830T183000
DTEND;TZID=America/Los_Angeles:20210830T203000
DTSTAMP:20260420T053509
CREATED:20210829T231004Z
LAST-MODIFIED:20210829T231004Z
UID:5451-1630348200-1630355400@palmsnc.la
SUMMARY:LAUSD Redistricting Public Session
DESCRIPTION:
URL:https://palmsnc.la/calendar/lausd-redistricting-public-session/
CATEGORIES:Community Events
END:VEVENT
BEGIN:VEVENT
DTSTART;TZID=America/Los_Angeles:20210830T190000
DTEND;TZID=America/Los_Angeles:20210830T210000
DTSTAMP:20260420T053509
CREATED:20210825T010511Z
LAST-MODIFIED:20210828T205008Z
UID:5438-1630350000-1630357200@palmsnc.la
SUMMARY:Renter Support & Affordable Housing Advocacy Committee Meeting
DESCRIPTION:2021_08_30 Renter Support & Affordable Housing Advocacy Committee Meeting Agenda.docx (1)
URL:https://palmsnc.la/calendar/renter-support-affordable-housing-advocacy-committee-meeting/
END:VEVENT
BEGIN:VEVENT
DTSTART;TZID=America/Los_Angeles:20210901T183000
DTEND;TZID=America/Los_Angeles:20210901T203000
DTSTAMP:20260420T053509
CREATED:20210829T231038Z
LAST-MODIFIED:20210829T231038Z
UID:5455-1630521000-1630528200@palmsnc.la
SUMMARY:LAUSD Redistricting Public Session
DESCRIPTION:
URL:https://palmsnc.la/calendar/lausd-redistricting-public-session-2/
CATEGORIES:Community Events
END:VEVENT
BEGIN:VEVENT
DTSTART;TZID=America/Los_Angeles:20210901T190000
DTEND;TZID=America/Los_Angeles:20210901T210000
DTSTAMP:20260420T053509
CREATED:20210622T021617Z
LAST-MODIFIED:20210830T152517Z
UID:5157-1630522800-1630530000@palmsnc.la
SUMMARY:Palms Neighborhood Council General Assembly Meeting
DESCRIPTION:2021_09_01 Sept 1 GA Meeting Packet V2
URL:https://palmsnc.la/calendar/palms-neighborhood-council-general-assembly-meeting-25/
CATEGORIES:Meetings
END:VEVENT
BEGIN:VEVENT
DTSTART;TZID=America/Los_Angeles:20210908T190000
DTEND;TZID=America/Los_Angeles:20210908T210000
DTSTAMP:20260420T053509
CREATED:20210622T023928Z
LAST-MODIFIED:20210906T055354Z
UID:5199-1631127600-1631134800@palmsnc.la
SUMMARY:Planning & Land Use Management Committee Meeting
DESCRIPTION:2021-09-08 PLUM Agenda
URL:https://palmsnc.la/calendar/planning-land-use-management-committee-meeting-9/
CATEGORIES:Meetings
END:VEVENT
BEGIN:VEVENT
DTSTART;TZID=America/Los_Angeles:20210909T193000
DTEND;TZID=America/Los_Angeles:20210909T210000
DTSTAMP:20260420T053509
CREATED:20210622T025042Z
LAST-MODIFIED:20210906T055500Z
UID:5212-1631215800-1631221200@palmsnc.la
SUMMARY:Transportation & Infrastructure Committee Meeting
DESCRIPTION:2021-09-09 Transportation & Infrastructure Committee Agenda
URL:https://palmsnc.la/calendar/transportation-infrastructure-committee-meeting-21/
CATEGORIES:Meetings
END:VEVENT
BEGIN:VEVENT
DTSTART;TZID=America/Los_Angeles:20210911T100000
DTEND;TZID=America/Los_Angeles:20210911T120000
DTSTAMP:20260420T053509
CREATED:20210821T170005Z
LAST-MODIFIED:20210821T170005Z
UID:5395-1631354400-1631361600@palmsnc.la
SUMMARY:LA City Council Redistricting Public Session
DESCRIPTION:LOS ANGELES CITY COUNCIL\n\nTwo Citywide sessions are planned to discuss the boundaries of the 15 LA City Council Districts. See an LA City Council District map: http://tiny.cc/CityCouncilMap.\n\n\nWednesday\, August 25\, 6:00pm (session conducted in Spanish)\nSaturday\, September 11\, 10:00am (session conducted English)\n\n\nTo join these meetings online: http://bit.ly/LACCRCZoom\nTo join by phone: call (669) 254-5252\, enter 161 545 4787#\n\nTo request to speak\, use the Raise Hand button (if joining online) or press *9 (if joining by phone). You will have 3 minutes to speak – see public comment tips below. To submit written comments\, visit http://bit.ly/lacitycoi.\n\nLearn more about LA City Council redistricting and see additional public session announcements at http://laccrc2021.org.
URL:https://palmsnc.la/calendar/la-city-council-redistricting-public-session/
CATEGORIES:Community Events
END:VEVENT
END:VCALENDAR