BEGIN:VCALENDAR
VERSION:2.0
PRODID:-//Palms Neighborhood Council - ECPv6.15.13.1//NONSGML v1.0//EN
CALSCALE:GREGORIAN
METHOD:PUBLISH
X-WR-CALNAME:Palms Neighborhood Council
X-ORIGINAL-URL:https://palmsnc.la
X-WR-CALDESC:Events for Palms Neighborhood Council
REFRESH-INTERVAL;VALUE=DURATION:PT1H
X-Robots-Tag:noindex
X-PUBLISHED-TTL:PT1H
BEGIN:VTIMEZONE
TZID:America/Los_Angeles
BEGIN:DAYLIGHT
TZOFFSETFROM:-0800
TZOFFSETTO:-0700
TZNAME:PDT
DTSTART:20230312T100000
END:DAYLIGHT
BEGIN:STANDARD
TZOFFSETFROM:-0700
TZOFFSETTO:-0800
TZNAME:PST
DTSTART:20231105T090000
END:STANDARD
BEGIN:DAYLIGHT
TZOFFSETFROM:-0800
TZOFFSETTO:-0700
TZNAME:PDT
DTSTART:20240310T100000
END:DAYLIGHT
BEGIN:STANDARD
TZOFFSETFROM:-0700
TZOFFSETTO:-0800
TZNAME:PST
DTSTART:20241103T090000
END:STANDARD
BEGIN:DAYLIGHT
TZOFFSETFROM:-0800
TZOFFSETTO:-0700
TZNAME:PDT
DTSTART:20250309T100000
END:DAYLIGHT
BEGIN:STANDARD
TZOFFSETFROM:-0700
TZOFFSETTO:-0800
TZNAME:PST
DTSTART:20251102T090000
END:STANDARD
END:VTIMEZONE
BEGIN:VEVENT
DTSTART;TZID=America/Los_Angeles:20240703T190000
DTEND;TZID=America/Los_Angeles:20240703T210000
DTSTAMP:20260419T061646
CREATED:20240702T064928Z
LAST-MODIFIED:20240702T064928Z
UID:8185-1720033200-1720040400@palmsnc.la
SUMMARY:Palms General Assembly Meeting - Canceled
DESCRIPTION:2024_07_03 General Assembly Meeting Cancel Agenda
URL:https://palmsnc.la/calendar/palms-general-assembly-meeting-canceled/
CATEGORIES:Meetings
END:VEVENT
BEGIN:VEVENT
DTSTART;TZID=America/Los_Angeles:20240708T190000
DTEND;TZID=America/Los_Angeles:20240708T210000
DTSTAMP:20260419T061646
CREATED:20240610T212503Z
LAST-MODIFIED:20240810T021617Z
UID:8156-1720465200-1720472400@palmsnc.la
SUMMARY:Outreach Committee Mtg.
DESCRIPTION:Click link for agenda and Zoom info. \n  \n 
URL:https://palmsnc.la/calendar/outreach-committee-mtg-3/
CATEGORIES:Meetings
END:VEVENT
BEGIN:VEVENT
DTSTART;TZID=America/Los_Angeles:20240709T190000
DTEND;TZID=America/Los_Angeles:20240709T210000
DTSTAMP:20260419T061646
CREATED:20240702T065146Z
LAST-MODIFIED:20240708T080159Z
UID:8191-1720551600-1720558800@palmsnc.la
SUMMARY:Palms NC General Assembly Special Meeting
DESCRIPTION:2024_07_09 General Assembly Special Meeting Agenda
URL:https://palmsnc.la/calendar/palms-nc-general-assembly-special-meeting-5/
CATEGORIES:Meetings
END:VEVENT
BEGIN:VEVENT
DTSTART;TZID=America/Los_Angeles:20240710T190000
DTEND;TZID=America/Los_Angeles:20240710T220000
DTSTAMP:20260419T061646
CREATED:20240708T081024Z
LAST-MODIFIED:20240708T081024Z
UID:8196-1720638000-1720648800@palmsnc.la
SUMMARY:Planning and Land Use Management - Canceled
DESCRIPTION:
URL:https://palmsnc.la/calendar/planning-and-land-use-management-canceled/
CATEGORIES:Meetings
END:VEVENT
BEGIN:VEVENT
DTSTART;TZID=America/Los_Angeles:20240711T180000
DTEND;TZID=America/Los_Angeles:20240711T181500
DTSTAMP:20260419T061646
CREATED:20240710T080047Z
LAST-MODIFIED:20240710T080047Z
UID:8202-1720720800-1720721700@palmsnc.la
SUMMARY:Palms NC General Assembly Special Meeting
DESCRIPTION:2024_07_11 General Assembly Special Meeting Agenda
URL:https://palmsnc.la/calendar/palms-nc-general-assembly-special-meeting-6/
CATEGORIES:Meetings
END:VEVENT
BEGIN:VEVENT
DTSTART;TZID=America/Los_Angeles:20240711T183000
DTEND;TZID=America/Los_Angeles:20240711T200000
DTSTAMP:20260419T061646
CREATED:20240712T022751Z
LAST-MODIFIED:20240712T022751Z
UID:8229-1720722600-1720728000@palmsnc.la
SUMMARY:Business Relations and Public Beautification Committee Meeting
DESCRIPTION:Join us for our next Business Relations and Public Beautification Committee Meeting – August\, 6th @ 6:30PM. \nJoin the Zoom Meeting here: https://us02web.zoom.us/j/89357662188 \n8.6.2024 Business Relations and Public Beautification Agenda
URL:https://palmsnc.la/calendar/business-relations-and-public-beautification-committee-meeting-22/
CATEGORIES:Meetings
END:VEVENT
BEGIN:VEVENT
DTSTART;TZID=America/Los_Angeles:20240711T190000
DTEND;TZID=America/Los_Angeles:20240711T210000
DTSTAMP:20260419T061646
CREATED:20240712T020755Z
LAST-MODIFIED:20240712T020755Z
UID:8212-1720724400-1720731600@palmsnc.la
SUMMARY:Transportation Committee Meeting - July 2024
DESCRIPTION:2024-07-11 Palms NC Transportation & Infrastructure Committee Agenda
URL:https://palmsnc.la/calendar/transportation-committee-meeting-july-2024/
LOCATION:ZOOM
END:VEVENT
BEGIN:VEVENT
DTSTART;TZID=America/Los_Angeles:20240723T183000
DTEND;TZID=America/Los_Angeles:20240723T200000
DTSTAMP:20260419T061646
CREATED:20240307T012550Z
LAST-MODIFIED:20240719T003303Z
UID:7979-1721759400-1721764800@palmsnc.la
SUMMARY:Palms Green Committee
DESCRIPTION:Join us as we work to make Palms more sustainable and protect biodiversity and the environment in our community. \n  \n2024-07-23 GREEN Agenda
URL:https://palmsnc.la/calendar/palms-green-committee-5/
LOCATION:Zoom – Link will be posted on Agenda
CATEGORIES:Meetings
END:VEVENT
BEGIN:VEVENT
DTSTART;TZID=America/Los_Angeles:20240724T190000
DTEND;TZID=America/Los_Angeles:20240724T210000
DTSTAMP:20260419T061646
CREATED:20240724T024532Z
LAST-MODIFIED:20240724T024532Z
UID:8239-1721847600-1721854800@palmsnc.la
SUMMARY:Executive Committee Meeting
DESCRIPTION:Join us for our next Executive Committee meeting! This Wednesday\, July 24th @ 7pm. Meeting will be held at Fire Station 43 on Motor Ave. \n2024-07-24 Executive Committee Agenda
URL:https://palmsnc.la/calendar/executive-committee-meeting-18/
LOCATION:Fire Station 43\, 3690 Motor Ave\, Los Angeles\, CA\, 90034\, United States
CATEGORIES:Meetings
END:VEVENT
END:VCALENDAR