BEGIN:VCALENDAR
VERSION:2.0
PRODID:-//Palms Neighborhood Council - ECPv6.15.13.1//NONSGML v1.0//EN
CALSCALE:GREGORIAN
METHOD:PUBLISH
X-WR-CALNAME:Palms Neighborhood Council
X-ORIGINAL-URL:https://palmsnc.la
X-WR-CALDESC:Events for Palms Neighborhood Council
REFRESH-INTERVAL;VALUE=DURATION:PT1H
X-Robots-Tag:noindex
X-PUBLISHED-TTL:PT1H
BEGIN:VTIMEZONE
TZID:America/Los_Angeles
BEGIN:DAYLIGHT
TZOFFSETFROM:-0800
TZOFFSETTO:-0700
TZNAME:PDT
DTSTART:20240310T100000
END:DAYLIGHT
BEGIN:STANDARD
TZOFFSETFROM:-0700
TZOFFSETTO:-0800
TZNAME:PST
DTSTART:20241103T090000
END:STANDARD
BEGIN:DAYLIGHT
TZOFFSETFROM:-0800
TZOFFSETTO:-0700
TZNAME:PDT
DTSTART:20250309T100000
END:DAYLIGHT
BEGIN:STANDARD
TZOFFSETFROM:-0700
TZOFFSETTO:-0800
TZNAME:PST
DTSTART:20251102T090000
END:STANDARD
BEGIN:DAYLIGHT
TZOFFSETFROM:-0800
TZOFFSETTO:-0700
TZNAME:PDT
DTSTART:20260308T100000
END:DAYLIGHT
BEGIN:STANDARD
TZOFFSETFROM:-0700
TZOFFSETTO:-0800
TZNAME:PST
DTSTART:20261101T090000
END:STANDARD
END:VTIMEZONE
BEGIN:VEVENT
DTSTART;TZID=America/Los_Angeles:20251105T190000
DTEND;TZID=America/Los_Angeles:20251105T210000
DTSTAMP:20260422T044251
CREATED:20250930T032749Z
LAST-MODIFIED:20251103T052116Z
UID:9092-1762369200-1762376400@palmsnc.la
SUMMARY:Palms NC General Assembly Meeting
DESCRIPTION:251105 General Assembly Agenda
URL:https://palmsnc.la/calendar/palms-nc-general-assembly-meeting-17/
CATEGORIES:Meetings
END:VEVENT
BEGIN:VEVENT
DTSTART;TZID=America/Los_Angeles:20251111T180000
DTEND;TZID=America/Los_Angeles:20251111T190000
DTSTAMP:20260422T044251
CREATED:20251110T075917Z
LAST-MODIFIED:20251110T075917Z
UID:9154-1762884000-1762887600@palmsnc.la
SUMMARY:Special Ad Hoc Bylaws Committee
DESCRIPTION:2025-11-11 Special Ad Hoc Bylaws Agenda
URL:https://palmsnc.la/calendar/special-ad-hoc-bylaws-committee-2/
CATEGORIES:Meetings
END:VEVENT
BEGIN:VEVENT
DTSTART;TZID=America/Los_Angeles:20251112T190000
DTEND;TZID=America/Los_Angeles:20251112T210000
DTSTAMP:20260422T044251
CREATED:20250930T033022Z
LAST-MODIFIED:20251113T021237Z
UID:9096-1762974000-1762981200@palmsnc.la
SUMMARY:Planning and Land Use Management Committee - Canceled
DESCRIPTION:2025-11-12 PLUM Agenda
URL:https://palmsnc.la/calendar/planning-and-land-use-management-committee-4/
CATEGORIES:Meetings
END:VEVENT
BEGIN:VEVENT
DTSTART;TZID=America/Los_Angeles:20251113T180000
DTEND;TZID=America/Los_Angeles:20251113T200000
DTSTAMP:20260422T044251
CREATED:20251031T083631Z
LAST-MODIFIED:20251113T021120Z
UID:9139-1763056800-1763064000@palmsnc.la
SUMMARY:Overland Mural Discussion With CD 5 - Postponed
DESCRIPTION:In an effort to restore public art in the community\, the Office of Councilwoman Yaroslavsky and Arts Bridging the Gap are working together to create a new large-scale mural in Palms\, and they want to hear from you! The mural will be located at 3215 Overland Avenue and will stand at 20 feet high and 150 wide. \nJoin representatives from CD 5 and Arts Bridging the Gap to contribute to the mural’s vision and design. Here are the meeting details: November 13 at 6:00 PM at the Iman Cultural Center (3376 Motor Ave\, Los Angeles\, CA 90034). \nAbout Arts Bridging the Gap: \nArts Bridging the Gap uplifts the voices\, experiences\, and self-expression of youth from under-resourced communities through healing arts programs. Through their work\, youth develop interpersonal skills and growth mindsets that enable them to be their best selves in their community. Learn more about their work at https://www.artsbridgingthegap.org/ \nAbout the Artist:  \nAmani Holbert is a visual artist\, who creates works that empower women of color. She spearheaded USC’s 2020 Black History Month Legacy Project Unveiling at the Fisher Museum of Art\, and her work can be seen across LA\, including at WE RISE\, Kipp Compton Elementary School\, and Fremont High School. Amani has taught at LA’s BEST\, Digital Learning Academy\, and the Boys & Girls Club. She holds a BFA from Loyola Marymount University. You can check out her work on Instagram here: Instagram. \nPlease RSVP here !
URL:https://palmsnc.la/calendar/overland-mural-discussion-with-cd-5/
CATEGORIES:Community Events
END:VEVENT
BEGIN:VEVENT
DTSTART;TZID=America/Los_Angeles:20251113T190000
DTEND;TZID=America/Los_Angeles:20251113T210000
DTSTAMP:20260422T044251
CREATED:20251111T015549Z
LAST-MODIFIED:20251111T015549Z
UID:9161-1763060400-1763067600@palmsnc.la
SUMMARY:Transportation & Infrastructure Committee
DESCRIPTION:2025-11-13 Palms NC Transportation & Infrastructure Committee Agenda
URL:https://palmsnc.la/calendar/transportation-infrastructure-committee-34/
CATEGORIES:Meetings
END:VEVENT
BEGIN:VEVENT
DTSTART;TZID=America/Los_Angeles:20251119T190000
DTEND;TZID=America/Los_Angeles:20251119T210000
DTSTAMP:20260422T044251
CREATED:20251119T001346Z
LAST-MODIFIED:20251119T001346Z
UID:9173-1763578800-1763586000@palmsnc.la
SUMMARY:Executive Committee Special Meeting
DESCRIPTION:2025-11-19 Palms NC Executive Committee Meeting Agenda
URL:https://palmsnc.la/calendar/executive-committee-special-meeting-5/
CATEGORIES:Meetings
END:VEVENT
BEGIN:VEVENT
DTSTART;TZID=America/Los_Angeles:20251120T190000
DTEND;TZID=America/Los_Angeles:20251120T210000
DTSTAMP:20260422T044251
CREATED:20251119T002014Z
LAST-MODIFIED:20251119T002014Z
UID:9176-1763665200-1763672400@palmsnc.la
SUMMARY:Community Engagement Meeting
DESCRIPTION:2025-11-20 Community Engagement Agenda
URL:https://palmsnc.la/calendar/community-engagement-meeting/
CATEGORIES:Meetings
END:VEVENT
BEGIN:VEVENT
DTSTART;TZID=America/Los_Angeles:20251124T190000
DTEND;TZID=America/Los_Angeles:20251124T200000
DTSTAMP:20260422T044251
CREATED:20250726T022431Z
LAST-MODIFIED:20251125T070353Z
UID:8987-1764010800-1764014400@palmsnc.la
SUMMARY:Unhoused & Public Safety Committee Meeting
DESCRIPTION:This committee meets at 7pm on Zoom. \nCANCELLED. See you next month. \n2025-11-24 UPS Agenda 01 Cancelled \n 
URL:https://palmsnc.la/calendar/unhoused-public-safety-committee-meeting-5/
CATEGORIES:Meetings
END:VEVENT
BEGIN:VEVENT
DTSTART;TZID=America/Los_Angeles:20251125T183000
DTEND;TZID=America/Los_Angeles:20251125T200000
DTSTAMP:20260422T044251
CREATED:20250718T225923Z
LAST-MODIFIED:20251123T224425Z
UID:8969-1764095400-1764100800@palmsnc.la
SUMMARY:Palms Green Committee
DESCRIPTION:Join us as we work to make Palms more sustainable and protect biodiversity and the environment in our community. \n2025-11-25 GREEN Agenda
URL:https://palmsnc.la/calendar/palms-green-committee-20/
LOCATION:Zoom – Link will be posted on Agenda
CATEGORIES:Meetings
ORGANIZER;CN="Charles Miller":MAILTO:charles.miller@palmsnc.la
END:VEVENT
BEGIN:VEVENT
DTSTART;TZID=America/Los_Angeles:20251126T190000
DTEND;TZID=America/Los_Angeles:20251126T210000
DTSTAMP:20260422T044251
CREATED:20251119T003246Z
LAST-MODIFIED:20251119T003246Z
UID:9189-1764183600-1764190800@palmsnc.la
SUMMARY:Executive Committee Meeting - Canceled
DESCRIPTION:
URL:https://palmsnc.la/calendar/executive-committee-meeting-canceled-2/
CATEGORIES:Meetings
END:VEVENT
END:VCALENDAR