BEGIN:VCALENDAR
VERSION:2.0
PRODID:-//Palms Neighborhood Council - ECPv6.15.13.1//NONSGML v1.0//EN
CALSCALE:GREGORIAN
METHOD:PUBLISH
X-WR-CALNAME:Palms Neighborhood Council
X-ORIGINAL-URL:https://palmsnc.la
X-WR-CALDESC:Events for Palms Neighborhood Council
REFRESH-INTERVAL;VALUE=DURATION:PT1H
X-Robots-Tag:noindex
X-PUBLISHED-TTL:PT1H
BEGIN:VTIMEZONE
TZID:America/Los_Angeles
BEGIN:DAYLIGHT
TZOFFSETFROM:-0800
TZOFFSETTO:-0700
TZNAME:PDT
DTSTART:20250309T100000
END:DAYLIGHT
BEGIN:STANDARD
TZOFFSETFROM:-0700
TZOFFSETTO:-0800
TZNAME:PST
DTSTART:20251102T090000
END:STANDARD
BEGIN:DAYLIGHT
TZOFFSETFROM:-0800
TZOFFSETTO:-0700
TZNAME:PDT
DTSTART:20260308T100000
END:DAYLIGHT
BEGIN:STANDARD
TZOFFSETFROM:-0700
TZOFFSETTO:-0800
TZNAME:PST
DTSTART:20261101T090000
END:STANDARD
BEGIN:DAYLIGHT
TZOFFSETFROM:-0800
TZOFFSETTO:-0700
TZNAME:PDT
DTSTART:20270314T100000
END:DAYLIGHT
BEGIN:STANDARD
TZOFFSETFROM:-0700
TZOFFSETTO:-0800
TZNAME:PST
DTSTART:20271107T090000
END:STANDARD
END:VTIMEZONE
BEGIN:VEVENT
DTSTART;TZID=America/Los_Angeles:20260107T190000
DTEND;TZID=America/Los_Angeles:20260107T210000
DTSTAMP:20260422T023431
CREATED:20251103T052433Z
LAST-MODIFIED:20260105T030023Z
UID:9146-1767812400-1767819600@palmsnc.la
SUMMARY:Palms NC General Assembly Meeting
DESCRIPTION:260107 General Assembly Agenda
URL:https://palmsnc.la/calendar/palms-nc-general-assembly-meeting-18/
CATEGORIES:Meetings
END:VEVENT
BEGIN:VEVENT
DTSTART;TZID=America/Los_Angeles:20260108T190000
DTEND;TZID=America/Los_Angeles:20260108T210000
DTSTAMP:20260422T023431
CREATED:20251111T020033Z
LAST-MODIFIED:20260106T030255Z
UID:9168-1767898800-1767906000@palmsnc.la
SUMMARY:Transportation & Infrastructure Committee
DESCRIPTION:2026-1-8 Palms NC Transportation & Infrastructure Committee Agenda
URL:https://palmsnc.la/calendar/transportation-infrastructure-committee-36/
CATEGORIES:Meetings
END:VEVENT
BEGIN:VEVENT
DTSTART;TZID=America/Los_Angeles:20260114T190000
DTEND;TZID=America/Los_Angeles:20260114T210000
DTSTAMP:20260422T023431
CREATED:20251110T080042Z
LAST-MODIFIED:20260112T043326Z
UID:9156-1768417200-1768424400@palmsnc.la
SUMMARY:Planning and Land Use Management Committee
DESCRIPTION:2026-01-14 PLUM Agenda
URL:https://palmsnc.la/calendar/planning-and-land-use-management-committee-6/
CATEGORIES:Meetings
END:VEVENT
BEGIN:VEVENT
DTSTART;TZID=America/Los_Angeles:20260115T190000
DTEND;TZID=America/Los_Angeles:20260115T210000
DTSTAMP:20260422T023431
CREATED:20251119T002447Z
LAST-MODIFIED:20260112T043853Z
UID:9182-1768503600-1768510800@palmsnc.la
SUMMARY:Community Engagement Committee Meeting
DESCRIPTION:2026-01-15 Community Engagement Agenda
URL:https://palmsnc.la/calendar/community-engagement-meeting-3/
CATEGORIES:Meetings
END:VEVENT
BEGIN:VEVENT
DTSTART;TZID=America/Los_Angeles:20260127T183000
DTEND;TZID=America/Los_Angeles:20260127T200000
DTSTAMP:20260422T023431
CREATED:20260125T020221Z
LAST-MODIFIED:20260125T020221Z
UID:9256-1769538600-1769544000@palmsnc.la
SUMMARY:Palms Green Committee
DESCRIPTION:Join us as we work to make Palms more sustainable\, protect biodiversity\, and enhance the environment in our community. \n2026-1-27 GREEN Agenda
URL:https://palmsnc.la/calendar/palms-green-committee-21/
LOCATION:Zoom – link will be posted on Agenda 
CATEGORIES:Meetings
ORGANIZER;CN="Charles Miller":MAILTO:charles.miller@palmsnc.la
END:VEVENT
BEGIN:VEVENT
DTSTART;TZID=America/Los_Angeles:20260128T190000
DTEND;TZID=America/Los_Angeles:20260128T210000
DTSTAMP:20260422T023431
CREATED:20251119T002543Z
LAST-MODIFIED:20260122T040242Z
UID:9184-1769626800-1769634000@palmsnc.la
SUMMARY:Executive Committee Meeting
DESCRIPTION:
URL:https://palmsnc.la/calendar/executive-committee-meeting-29/
CATEGORIES:Meetings
END:VEVENT
END:VCALENDAR