BEGIN:VCALENDAR
VERSION:2.0
PRODID:-//Palms Neighborhood Council - ECPv6.15.13.1//NONSGML v1.0//EN
CALSCALE:GREGORIAN
METHOD:PUBLISH
X-WR-CALNAME:Palms Neighborhood Council
X-ORIGINAL-URL:https://palmsnc.la
X-WR-CALDESC:Events for Palms Neighborhood Council
REFRESH-INTERVAL;VALUE=DURATION:PT1H
X-Robots-Tag:noindex
X-PUBLISHED-TTL:PT1H
BEGIN:VTIMEZONE
TZID:America/Los_Angeles
BEGIN:DAYLIGHT
TZOFFSETFROM:-0800
TZOFFSETTO:-0700
TZNAME:PDT
DTSTART:20250309T100000
END:DAYLIGHT
BEGIN:STANDARD
TZOFFSETFROM:-0700
TZOFFSETTO:-0800
TZNAME:PST
DTSTART:20251102T090000
END:STANDARD
BEGIN:DAYLIGHT
TZOFFSETFROM:-0800
TZOFFSETTO:-0700
TZNAME:PDT
DTSTART:20260308T100000
END:DAYLIGHT
BEGIN:STANDARD
TZOFFSETFROM:-0700
TZOFFSETTO:-0800
TZNAME:PST
DTSTART:20261101T090000
END:STANDARD
BEGIN:DAYLIGHT
TZOFFSETFROM:-0800
TZOFFSETTO:-0700
TZNAME:PDT
DTSTART:20270314T100000
END:DAYLIGHT
BEGIN:STANDARD
TZOFFSETFROM:-0700
TZOFFSETTO:-0800
TZNAME:PST
DTSTART:20271107T090000
END:STANDARD
END:VTIMEZONE
BEGIN:VEVENT
DTSTART;TZID=America/Los_Angeles:20260204T190000
DTEND;TZID=America/Los_Angeles:20260204T210000
DTSTAMP:20260420T054030
CREATED:20251130T103807Z
LAST-MODIFIED:20260202T025849Z
UID:9202-1770231600-1770238800@palmsnc.la
SUMMARY:Palms NC General Assembly Meeting
DESCRIPTION:260204 General Assembly Agenda
URL:https://palmsnc.la/calendar/palms-nc-general-assembly-meeting-20/
CATEGORIES:Meetings
END:VEVENT
BEGIN:VEVENT
DTSTART;TZID=America/Los_Angeles:20260211T190000
DTEND;TZID=America/Los_Angeles:20260211T210000
DTSTAMP:20260420T054030
CREATED:20251210T090418Z
LAST-MODIFIED:20260215T102825Z
UID:9207-1770836400-1770843600@palmsnc.la
SUMMARY:Planning and Land Use Management Committee - Cancelled
DESCRIPTION:2026-02-11 PLUM Agenda
URL:https://palmsnc.la/calendar/planning-and-land-use-management-committee-7/
CATEGORIES:Meetings
END:VEVENT
BEGIN:VEVENT
DTSTART;TZID=America/Los_Angeles:20260212T190000
DTEND;TZID=America/Los_Angeles:20260212T210000
DTSTAMP:20260420T054030
CREATED:20260208T212842Z
LAST-MODIFIED:20260208T213032Z
UID:9280-1770922800-1770930000@palmsnc.la
SUMMARY:Transportation & Infrastructure Committee
DESCRIPTION:2026-2-12 Palms NC Transportation & Infrastructure Committee Agenda
URL:https://palmsnc.la/calendar/transportation-infrastructure-committee-37/
END:VEVENT
BEGIN:VEVENT
DTSTART;TZID=America/Los_Angeles:20260212T190000
DTEND;TZID=America/Los_Angeles:20260212T210000
DTSTAMP:20260420T054030
CREATED:20260210T191645Z
LAST-MODIFIED:20260210T191645Z
UID:9287-1770922800-1770930000@palmsnc.la
SUMMARY:Transportation & Infrastructure Meeting
DESCRIPTION:2026-2-12 Palms NC Transportation & Infrastructure Committee Agenda
URL:https://palmsnc.la/calendar/transportation-infrastructure-meeting-2/
END:VEVENT
BEGIN:VEVENT
DTSTART;TZID=America/Los_Angeles:20260219T080000
DTEND;TZID=America/Los_Angeles:20260219T170000
DTSTAMP:20260420T054030
CREATED:20251218T213740Z
LAST-MODIFIED:20260220T040150Z
UID:9216-1771488000-1771520400@palmsnc.la
SUMMARY:Community Engagement Committee - Cancelled
DESCRIPTION:2026-02-19 Community Engagement Agenda
URL:https://palmsnc.la/calendar/community-engagement-committee/
CATEGORIES:Meetings
END:VEVENT
BEGIN:VEVENT
DTSTART;TZID=America/Los_Angeles:20260224T183000
DTEND;TZID=America/Los_Angeles:20260224T200000
DTSTAMP:20260420T054030
CREATED:20260125T020405Z
LAST-MODIFIED:20260221T093453Z
UID:9259-1771957800-1771963200@palmsnc.la
SUMMARY:Palms Green Committee
DESCRIPTION:Join us as we work to make Palms more sustainable\, protect biodiversity\, and enhance the environment in our community. \n2026-2-24 GREEN Agenda
URL:https://palmsnc.la/calendar/palms-green-committee-22/
LOCATION:Zoom – link will be posted on Agenda 
CATEGORIES:Meetings
ORGANIZER;CN="Charles Miller":MAILTO:charles.miller@palmsnc.la
END:VEVENT
END:VCALENDAR